BEGIN:VCALENDAR
VERSION:2.0
PRODID:-//ChamberMaster//Event Calendar 2.0//EN
METHOD:PUBLISH
X-PUBLISHED-TTL:P3D
REFRESH-INTERVAL:P3D
CALSCALE:GREGORIAN
BEGIN:VEVENT
DTSTART;VALUE=DATE:20150327
DTEND;VALUE=DATE:20150328
TRANSP:TRANSPARENT
X-MICROSOFT-CDO-ALLDAYEVENT:TRUE
SUMMARY:Sneak peak - Live Items and Basket Drawings
DESCRIPTION:Assorted Basket Drawings - Drawn at 9:30 - from $50 - $320  \n\n \n\nBLUE & WHITE Tickets: 10 tickets -$10 or 30 tickets - $20\n\n \n\n1. Experience the Brighton Music Hall   \n\nEntitles bearer to Two (2) tickets for a concert of your choice (subject to availability) at the Brighton Music Hall. Venue featuring performances by alternative\, indie & local bands.\n\nDonated by: Crossroads Presents.....................................Value $100 \n\n \n\n2. Pamper Your Car at The Pro's Car Care Complex. \n\nHave the Pro's spruce your car up with a Professional Hand Wax. Also comes with a Patriots travel mug and ice scraper. \n\nThe Pro's Car Care Complex...........................................Value: $110 \n\n \n\n3. Alex and Ani Sacred Stud Earrings with Gift Card\n\nAlex and Ani\, LLC offers eco-friendly\, positive energy products that adorn the body\, enlighten the mind and empower the spirit.  Designed by Carolyn Rafaelian and made in America. Shop Patriot place with a $50 Patriot Place Gift Card\n\nEarrings Donated by: Alex and Ani\n\nGift Card Donated by: Patriot Place   ......................Total Value $78 \n\n \n\n4. Samsonite Silhouette Sphere 29" Spinner Upright \n\nSilhouette Series by Samsonite features a Gel-infused push-button locking handle provides a comfortable grip. This piece has effortless mobility with its revolutionary 4 spherical spinner wheels makes this piece easy to roll in any direction.\n\nDonated by: Samsonite\, Mansfield..................................Value $320 \n\n \n\n5. Love Your Doggy Basket \n\nBasket includes\; Waverly Pet Throw 40" x 50"\, Duck Dog Toy\, Duck Dynasty Dog Treats\, Purina Beggin' Strips\, Hartz Ultraguard Pro (Flea and Tick Drops)\, Beefeaters Honeycomb Chicken Treats\, White Donut Rawhide Chew\, Busy Buddy Treat-Holding Biscuit Bouncer\, Beefeaters Munchy Bone w/Bacon\, BioSpot Flea and Tick Shampoo (Spice)\, Dura-Brite Chew Toy\, My Skinny Pet Treats w/Turkey and Rice\, Rawhide Chews (5)\, Top Dog 17' Automatic Pet Leash and Mega-Roll (60 bags) Waste Bags w/Dispenser\n\nDonated by:  Karen A. Benz/Business Legacy Consulting\, Inc.  \n\n...........................................................................................Value:  $60\n\n \n\n6. Night at the Game - Ten (10) Tickets to Paw Sox 2014 Winner of the Governor's Cup!\n\nEnjoy a great Night at the Park with family or friends. Ten (10) tickets for the 2015 PawSox at McCoy Stadium. These General Admission Flex tickets allow you to pick the night and go!\n\nDonated by: the Chamber /Champion PawSox.............Value:  $120 \n\n \n\n7. Pampering Basket\n\nBasket includes\; Clementine Shower Gel\, Coconut Soap\, Pink Grapefruit Lotion\, 2 Body Scrubs- Pink Grapefruit and Coconut\, 2 Body Butter Coconut and Strawberry\, 2 Lip balms.\n\nDonated by: Kara Griffin....................................................Value $50\n\n \n\n8. Movie Passes & Framed "minions" Movie Poster\n\nTwo (2) Movie Passes with a framed Minions Movie Poster\n\nPoster Donated by: National Amusements\n\nMovie Passes Donated by Patriot Place ............................Value $55\n\n \n\n9. Attention Bruins Fans \n\nSigned photograph of #37 Patrice Bergeron and Bruins Hat \n\nPhotograph Donated by: Rich Brady\n\nHat Donated by Tri-Town Chamber ..................................Priceless\n\n\n\n10. Sam Adams Bucket of Beer & Bass Pro Card  \n\nEnjoy and Bucket of Sam Adams! Shop local with a $50 Bass Pro Shop Gift Card \n\nBucket of Sam Donated by: Tri-Town Chamber\n\nBass Pro Gift Card Donated by: Patriot Place..........Total Value $70\n\n \n\n11. Fun at Patriot Place Cupcakes 5 Witts & the Hall \n\n6 Cupcakes from Cupcake Charlies\, Two (2) Passes to enjoy the fun at 5 Witts and Two (2) Passes to the Hall  \n\nDonated by Patriot Place ..........................................Total value $70 \n\n\n\n\n\nLIVE AUCTION - 8:00pm \n\n1. Give Your Business the Exposure it deserves       Naming Right to Chamber's Conference Room This is your golden opportunity to have your business noticed all year long. Your Company's Name will be marketed with all Conference Room Meeting Announcements for one year starting January 2016. The Chamber's Conference Room hosts over 200 Meetings a Year. Your Logo framed sign will be displayed on the wall for the entire year. Currently the Conference Room is the Davis Financial Conference Room\n\n2. VIP Concert Experience for Four at Xfinity Center       Package includes\; Four (4) seats in a VIP Box\, two (2) VIP Parking Passes\, wait service to your seats (food & beverage ordered at your seats not included) However you will also have $100 in Courtyard Cash while you are treated to VIP Access for 4 to the Courtyard VIP Hospitality Area\, ($100 in Courtyard Cash for food and beverage purchased in the Courtyard) (Excluded: Jimmy Buffett and Kid Rock)       Donated by: Xfinity Center  $1100 Value\n\n3. World Golf Village Stay & Play Package in St. Augustine\, FL        3 Day/2 Nights stay at the Renaissance Resort in World Golf Village - The 4 Diamond Renaissance World Golf Village Resort offers fresh\, well-appointed accommodations featuring 37 inch flat-panel televisions\, sparkling new bathrooms and furnishings\, high-speed wireless Internet access\, spacious work areas\, wet bars and refrigerators among many modern luxuries. Package also includes\;  A round of golf for 2 on Slammer & Squire\, 2 Tickets to the World Golf Hall of Fame & Museum and IMAX Theater and one golf lesson for two at PGA TOUR Golf Academy.      Donated by: Deutsche Bank Championship   Value $1000\n\n4. Exclusive   Foursome at TPC Boston       This private club has donated a foursome. The certificate entitles bearer to One Round of Golf for Four (4) Players with carts at TPC Boston. Lush fairways\, Bent grass greens and 52 bunkers create a superb test of golf in Norton's Great Woods.       Donated by: TPC Boston\, Norton - Value $800 \n\n5. Overnight in Boston (Hotel\, Show and Food)       (2) Two Tickets Broadway in Boston Play Dirty Dancing on Tuesday\, April 28th at 7:30 PM at the Colonial Theater. Certificate for an Overnight at Holiday Inn Brookline and $100 Gift Card to Dine at Legal Seafood.    Show Donated by: Broadway in Boston   /    $100 Gift Certificate Donated by Al Valenti    /    Hotel Donated by: Holiday Inn Mansfield     Total package Value: $675
X-ALT-DESC;FMTTYPE=text/html:<p class="BasicParagraph"><br />\n<strong><span style="font-size:13.0pt\;">Assorted Basket Drawings - Drawn at&nbsp\;9:30 </span><em><span style="font-size:13pt\;">- </span></em><em><span style="font-size:13.0pt\;">from $50 - $320&nbsp\; </span></em></strong><br />\n&nbsp\;<br />\n<u>BLUE &amp\; WHITE Tickets: 10 tickets -$10 or 30 tickets - $20</u><br />\n&nbsp\;<br />\n<strong><span style="font-size:11.0pt\;">1. Experience the Brighton Music Hall&nbsp\;&nbsp\; </span></strong><br />\n<span style="font-size:11.5pt\;">Entitles bearer to Two (2) tickets for a concert of your choice (subject to availability) at the Brighton Music Hall. Venue featuring performances by alternative\, indie &amp\; local bands.</span><br />\n<em><span style="font-size:11.5pt\;">Donated by: Crossroads Presents.....................................Value $100 </span></em><br />\n&nbsp\;<br />\n<strong><span style="font-size:11.0pt\;">2. Pamper Your Car at The Pro&rsquo\;s Car Care Complex. </span></strong><br />\n<span style="font-size:11.5pt\;">Have the Pro&rsquo\;s spruce your car up with a Professional Hand Wax. Also comes with a Patriots travel mug and ice scraper. </span><br />\n<em><span style="font-size:11.5pt\;">The Pro&rsquo\;s Car Care Complex...........................................Value: $110 </span></em><br />\n&nbsp\;<br />\n<strong><span style="font-size:11.0pt\;">3. Alex and Ani Sacred Stud Earrings with Gift Card</span></strong><br />\n<span style="font-size:11.5pt\;">Alex and Ani\, LLC offers eco-friendly\, positive energy products that adorn the body\, enlighten the mind and empower the spirit.&nbsp\; Designed by Carolyn Rafaelian and made in America. Shop Patriot place with a $50 Patriot Place Gift Card</span><br />\n<em><span style="font-size:11.5pt\;">Earrings Donated by: Alex and Ani</span></em><br />\n<em><span style="font-size:11.5pt\;">Gift Card Donated by: Patriot Place&nbsp\;&nbsp\; ......................Total Value $78 </span></em><br />\n&nbsp\;<br />\n<strong><span style="font-size:11.0pt\;">4. Samsonite Silhouette Sphere 29&rdquo\; Spinner Upright </span></strong><br />\n<span style="font-size:11.5pt\;">Silhouette Series by Samsonite features a Gel-infused push-button locking handle provides a comfortable grip. This piece has effortless mobility with its revolutionary 4 spherical spinner wheels makes this piece easy to roll in any direction.</span><br />\n<em><span style="font-size:11.5pt\;">Donated by: Samsonite\, Mansfield..................................Value $320 </span></em><br />\n&nbsp\;<br />\n<strong><span style="font-size:11.0pt\;">5. Love Your Doggy Basket </span></strong><br />\n<span style="font-size:11.5pt\;">Basket includes\; Waverly Pet Throw 40&rdquo\; x 50&rdquo\;\, Duck Dog Toy\, Duck Dynasty Dog Treats\, Purina Beggin&rsquo\; Strips\, Hartz Ultraguard Pro (Flea and Tick Drops)\, Beefeaters Honeycomb Chicken Treats\, White Donut Rawhide Chew\, Busy Buddy Treat-Holding Biscuit Bouncer\, Beefeaters Munchy Bone w/Bacon\, BioSpot Flea and Tick Shampoo (Spice)\, Dura-Brite Chew Toy\, My Skinny Pet Treats w/Turkey and Rice\, Rawhide Chews (5)\, Top Dog 17&rsquo\; Automatic Pet Leash and Mega-Roll (60 bags) Waste Bags w/Dispenser</span><br />\n<em><span style="font-size:11.5pt\;">Donated by:&nbsp\; Karen A. Benz/Business Legacy Consulting\, Inc.&nbsp\; </span></em><br />\n<strong><span style="font-size:11.5pt\;">...........................................................................................Value:&nbsp\; $60</span></strong><br />\n&nbsp\;<br />\n<strong><span style="font-size:11.0pt\;">6. Night at the Game - Ten (10) Tickets to Paw Sox 2014 Winner of the Governor&rsquo\;s Cup!</span></strong><br />\n<span style="font-size:11.5pt\;">Enjoy a great Night at the Park with family or friends. Ten (10) tickets for the 2015 PawSox at McCoy Stadium. These General Admission Flex tickets allow you to pick the night and go!</span><br />\n<em><span style="font-size:11.5pt\;">Donated by: the Chamber /Champion PawSox.............Value:&nbsp\; $120 </span></em><br />\n&nbsp\;<br />\n<strong><span style="font-size:11.0pt\;">7. Pampering Basket</span></strong><br />\n<span style="font-size:11.5pt\;">Basket includes\; Clementine Shower Gel\, Coconut Soap\, Pink Grapefruit Lotion\, 2 Body Scrubs- Pink Grapefruit and Coconut\, 2 Body Butter Coconut and Strawberry\, 2 Lip balms.</span><br />\n<em><span style="font-size:11.5pt\;">Donated by: Kara Griffin....................................................Value $50</span></em><br />\n&nbsp\;<br />\n<strong><span style="font-size:11.0pt\;">8. Movie Passes &amp\; Framed &ldquo\;minions&rdquo\; Movie Poster</span></strong><br />\n<span style="font-size:11.5pt\;">Two (2) Movie Passes with a framed Minions Movie Poster</span><br />\n<em><span style="font-size:11.5pt\;">Poster Donated by: National Amusements</span><br />\n<span style="font-size:11.5pt\;">Movie Passes Donated by Patriot Place ............................Value $55</span></em><br />\n&nbsp\;<br />\n<strong><span style="font-size:11.0pt\;">9. Attention Bruins Fans </span></strong><br />\n<span style="font-size:11.5pt\;">Signed photograph of #37 Patrice Bergeron and Bruins Hat </span><br />\n<em><span style="font-size:11.5pt\;">Photograph Donated by: Rich Brady</span></em><br />\n<em><span style="font-size:11.5pt\;">Hat Donated by Tri-Town Chamber ..................................Priceless</span></em><br />\n<br />\n<strong><span style="font-size:11.0pt\;">10. Sam Adams Bucket of Beer &amp\; Bass Pro Card&nbsp\; </span></strong><br />\n<span style="font-size:11.5pt\;">Enjoy and Bucket of Sam Adams! Shop local with a $50 Bass Pro Shop Gift Card </span><br />\n<em><span style="font-size:11.5pt\;">Bucket of Sam Donated by: Tri-Town Chamber</span></em><br />\n<em><span style="font-size:11.5pt\;">Bass Pro Gift Card Donated by: Patriot Place..........Total Value $70</span></em><br />\n&nbsp\;<br />\n<strong><span style="font-size:11.0pt\;">11. Fun at Patriot Place Cupcakes 5 Witts &amp\; the Hall </span></strong><br />\n<span style="font-size:11.5pt\;">6 Cupcakes from Cupcake Charlies\, Two (2) Passes to enjoy the fun at 5 Witts and Two (2) Passes to the Hall&nbsp\; </span><br />\n<em><span style="font-size:11.5pt\;">Donated by Patriot Place ..........................................Total value $70&nbsp\;</span></em><br />\n<br />\n<br />\n<span style="font-size:24px\;"><strong><span class="AuctionItem"><span style="line-height: 120%\;">LIVE AUCTION - 8:00pm </span></span></strong></span></p>\n\n<p class="BasicParagraph"><strong><span class="AuctionItem"><span style="font-size:11.0pt\;\nline-height:120%">1. Give Your Business the Exposure it deserves &nbsp\; &nbsp\; &nbsp\;&nbsp\;</span></span></strong><span class="Desription"><span style="font-size:11.5pt\;\nline-height:120%">Naming Right to Chamber&rsquo\;s Conference Room This is your golden opportunity to have your business noticed all year long. Your Company&rsquo\;s Name will be marketed with all Conference Room Meeting Announcements for one year starting January 2016. The Chamber&rsquo\;s Conference Room hosts over 200 Meetings a Year. Your Logo framed sign will be displayed on the wall for the entire year. Currently the Conference Room is the Davis Financial Conference Room</span></span></p>\n\n<p class="BasicParagraph"><strong><span class="AuctionItem"><span style="font-size:11.0pt\;\nline-height:120%">2. VIP Concert Experience for Four at Xfinity Center&nbsp\;&nbsp\;&nbsp\;&nbsp\;&nbsp\;&nbsp\; </span></span></strong><span class="Desription"><span style="font-size:11.5pt\;\nline-height:120%">Package includes\; Four (4) seats in a VIP Box\, two (2) VIP Parking Passes\, wait service to your seats (food &amp\; beverage ordered at your seats not included) However you will also have $100 in Courtyard Cash while you are treated to VIP Access for 4 to the Courtyard VIP Hospitality Area\, ($100 in Courtyard Cash for food and beverage </span></span><span class="Desription"><span style="font-size:11.5pt\;\nline-height:120%">purchased in the Courtyard) (Excluded: Jimmy Buffett and Kid Rock) &nbsp\; &nbsp\; &nbsp\;&nbsp\;</span></span><span class="Donation"><span style="font-size:11.5pt\;\nline-height:120%">Donated by: Xfinity Center </span></span><span class="Desription"><span style="font-size:11.5pt\;line-height:120%">&nbsp\;</span></span><span class="Value"><span style="font-size:11.5pt\;line-height:120%">$1100 Value</span></span></p>\n\n<p class="BasicParagraph"><strong><span class="AuctionItem"><span style="font-size:11.0pt\;\nline-height:120%">3. World Golf Village Stay &amp\; Play Package in St. Augustine\, FL &nbsp\; &nbsp\; &nbsp\; &nbsp\;</span></span></strong><span class="Desription"><span style="font-size:11.5pt\;\nline-height:120%">3 Day/2 Nights stay at the Renaissance Resort in World Golf Village - The 4 Diamond Renaissance World Golf Village Resort offers fresh\, well-appointed accommodations featuring 37 inch flat-panel televisions\, sparkling new bathrooms and furnishings\, high-speed wireless Internet access\, spacious work areas\, wet bars and refrigerators among many modern luxuries. Package also includes\;&nbsp\; A round of golf for 2 on Slammer &amp\; Squire\, 2 Tickets to the World Golf Hall of Fame &amp\; Museum and IMAX Theater and one golf lesson for two at PGA TOUR Golf Academy. &nbsp\; &nbsp\; &nbsp\;</span></span><span class="Donation"><span style="font-size:11.5pt\;\nline-height:120%">Donated by: Deutsche Bank Championship</span></span><span class="Desription"><span style="font-size:11.5pt\;line-height:120%">&nbsp\;&nbsp\; </span></span><span class="Value"><span style="font-size:11.5pt\;line-height:120%">Value $1000</span></span></p>\n\n<p class="BasicParagraph"><strong><span class="AuctionItem"><span style="font-size:11.0pt\;\nline-height:120%">4. Exclusive &ndash\; Foursome at TPC Boston &nbsp\; &nbsp\; &nbsp\;&nbsp\;</span></span></strong><span class="Desription"><span style="font-size:11.5pt\;\nline-height:120%">This private club has donated a foursome. The certificate entitles bearer to One Round of Golf for Four (4) Players with carts at TPC Boston. Lush fairways\, Bent grass greens and 52 bunkers create a superb test of golf in Norton&rsquo\;s Great Woods. &nbsp\; &nbsp\; &nbsp\;&nbsp\;</span></span><span class="Donation"><span style="font-size:11.5pt\;\nline-height:120%">Donated by: TPC Boston\, Norton</span></span><span class="Desription"><span style="font-size:11.5pt\;line-height:120%"> - </span></span><span class="Value"><span style="font-size:11.5pt\;line-height:120%">Value $800</span></span><span class="Desription"><span style="font-size:11.5pt\;line-height:120%"> </span></span></p>\n\n<p class="BasicParagraph"><strong><span class="AuctionItem"><span style="font-size:11.0pt\;\nline-height:120%">5. Overnight in Boston (Hotel\, Show and Food) &nbsp\; &nbsp\; &nbsp\;&nbsp\;</span></span></strong><span class="Desription"><span style="font-size:11.5pt\;\nline-height:120%">(2) Two Tickets Broadway in Boston Play Dirty Dancing on Tuesday\, April 28th at 7:30 PM at the Colonial Theater. Certificate for an&nbsp\;Overnight at Holiday Inn Brookline and $100 Gift Card to Dine at Legal Seafood. &nbsp\; &nbsp\;</span></span><span class="Donation"><span style="font-size:11.5pt\;\nline-height:120%">Show Donated by: Broadway in Boston &nbsp\; / &nbsp\; &nbsp\;</span></span><span class="Donation"><span style="font-size:11.5pt\;\nline-height:120%">$100 Gift Certificate Donated by Al Valenti &nbsp\; &nbsp\;/ &nbsp\; &nbsp\;</span></span><span class="Donation"><span style="font-size:11.5pt\;\nline-height:120%">Hotel Donated by: Holiday Inn Mansfield &nbsp\; &nbsp\;&nbsp\;</span></span><span class="Value"><span style="font-size:11.5pt\;\nline-height:120%">Total package Value: $675</span></span></p>\n
LOCATION:Roaring 20's Auction at patriot Place in Showcase Live
UID:e.1730.1577
SEQUENCE:3
DTSTAMP:20260420T050209Z
URL:https://www.tri-townchamber.org/events/details/sneak-peak-live-items-and-basket-drawings-03-27-2015-1577
END:VEVENT

END:VCALENDAR
