BEGIN:VCALENDAR
VERSION:2.0
PRODID:-//ChamberMaster//Event Calendar 2.0//EN
METHOD:PUBLISH
X-PUBLISHED-TTL:P3D
REFRESH-INTERVAL:P3D
CALSCALE:GREGORIAN
BEGIN:VEVENT
DTSTART:20140827T130000Z
DTEND:20140827T160000Z
X-MICROSOFT-CDO-ALLDAYEVENT:FALSE
SUMMARY:Small Business Summit at the Deutsche Bank Championship
DESCRIPTION:You are invited to attend the Web.com Small Business Summit at the Deutsche Bank Championship in cooperation with EMC2\n\n\n\nThis free event will focus on helping small businesses learn how to successfully market their business online. We have an instructional presentation for you   and our ambassadors will be available to answer your questions after the presentation. Registration and breakfast beginning at 9:00am.\n\n \n\nDon't miss this chance to learn more about online marketing strategies that can transform your business. We look forward to seeing you!\n\n \n\nComing to the Norton\, MA on Wednesday\, August 27\, 2014 to TPC Boston - Deutsche Bank Pavilion from 9:00am - 12:00pm.\n\n \n\nTake the guesswork out of the following:\n\nDesign Elements - eCommerce - Online Marketing - Social Media\n\n \n\nRSVP now and receive:\n\nAll individuals to register and attend will receive one (1) complimentary Wednesday ticket and one (1) Good Any Day ticket to the Deutsche Bank Championship in cooperation with EMC2.\n\n \n\nAlso included: Breakfast - Q&A session following the Presentation\n\nOfficial Website Marketing Partner of the PGA TOUR
X-ALT-DESC;FMTTYPE=text/html:<span style="font-family:calibri\,sans-serif\;"><span style="font-size:11.0pt\;"><strong>You are invited to attend the Web.com Small Business Summit at the Deutsche Bank Championship in cooperation with </strong><strong>EMC2</strong></span></span><br />\n<br />\nThis free event will focus on helping small businesses learn how to successfully market their business online. We have an instructional presentation for you &mdash\; and our ambassadors will be available to answer your questions after the presentation. Registration and breakfast beginning at 9:00am.<br />\n&nbsp\;<br />\nDon&#39\;t miss this chance to learn more about online marketing strategies that can transform your business. We look forward to seeing you!<br />\n&nbsp\;<br />\nComing to the Norton\, MA on Wednesday\, August 27\, 2014 to TPC Boston - Deutsche Bank Pavilion from 9:00am - 12:00pm.<br />\n&nbsp\;<br />\nTake the guesswork out of the following:<br />\nDesign Elements - eCommerce - Online Marketing - Social Media<br />\n&nbsp\;<br />\nRSVP now and receive:<br />\nAll individuals to register and attend will receive one (1) complimentary Wednesday ticket and one (1) Good Any Day ticket to the Deutsche Bank Championship in cooperation with EMC2.<br />\n&nbsp\;<br />\nAlso included: Breakfast - Q&amp\;A session following the Presentation<br />\nOfficial Website Marketing Partner of the PGA TOUR
LOCATION:TPC Boston - Deutsche Bank Pavilion special parking instructions will be provided with RSVP
UID:e.1730.1038
SEQUENCE:3
DTSTAMP:20260420T165148Z
URL:https://www.tri-townchamber.org/events/details/small-business-summit-at-the-deutsche-bank-championship-08-27-2014-1038
END:VEVENT

END:VCALENDAR
