BEGIN:VCALENDAR
VERSION:2.0
PRODID:-//ChamberMaster//Event Calendar 2.0//EN
METHOD:PUBLISH
X-PUBLISHED-TTL:P3D
REFRESH-INTERVAL:P3D
CALSCALE:GREGORIAN
BEGIN:VEVENT
DTSTART:20150902T130000Z
DTEND:20150902T160000Z
X-MICROSOFT-CDO-ALLDAYEVENT:FALSE
SUMMARY:Small Business Summit
DESCRIPTION:You are cordially invited to attend the Web.com Small Business Summit Presented by Minuteman Health at the Deutsche Bank Championship. Web.com \, in association with SCORE\, America's SBDC (Small Business Development Center) and the PGA TOUR\, has identified you as a key local business owner to attend the event free of charge. Registration and complimentary refreshments will begin at 9:00am.
X-ALT-DESC;FMTTYPE=text/html:<span style="line-height: 14px\; font-family: arial\, sans-serif\; font-size: 14px\; color: rgb(8\, 83\, 145)\; font-weight: bold\;">You are cordially invited to attend the Web.com Small Business Summit Presented by Minuteman Health at the Deutsche Bank Championship.</span><span style="color: rgb(102\, 102\, 102)\; font-family: arial\, sans-serif\; font-size: 14px\; line-height: 18px\;">&nbsp\;Web.com&trade\;\, in association with SCORE\, America&#39\;s SBDC (Small Business Development Center) and the PGA TOUR\, has identified you as a key local business owner to attend the event free of charge. Registration and complimentary refreshments will begin at 9:00am.&nbsp\;</span>
LOCATION:TPC Boston
UID:e.1730.1705
SEQUENCE:3
DTSTAMP:20260419T185927Z
URL:https://www.tri-townchamber.org/events/details/small-business-summit-09-02-2015-1705
END:VEVENT

END:VCALENDAR
