BEGIN:VCALENDAR
VERSION:2.0
PRODID:-//ChamberMaster//Event Calendar 2.0//EN
METHOD:PUBLISH
X-PUBLISHED-TTL:P3D
REFRESH-INTERVAL:P3D
CALSCALE:GREGORIAN
BEGIN:VEVENT
DTSTART;VALUE=DATE:20151128
DTEND;VALUE=DATE:20151129
TRANSP:TRANSPARENT
X-MICROSOFT-CDO-ALLDAYEVENT:TRUE
SUMMARY:Small Business Saturday
DESCRIPTION:Small Business Saturday is a day to recognize and support small businesses for all they do for their communities.  On November 28\, 2015\, join The Tri-Town and many other organizations across the country in supporting local businesses in your area by shopping small. Small businesses are the heart of every community and the backbone of the nation's economy.
X-ALT-DESC;FMTTYPE=text/html:<strong><span style="background-image:initial\;background-attachment:initial\;background-size:initial\;background-origin:initial\;background-clip:initial\;background-position:initial\;background-repeat:initial\;"><span style="color:black\;"><span style="font-family:arial\,sans-serif\;"><span style="font-size:16pt\;">Small Business Saturday is a day to recognize and support small businesses for all they do for their communities.&nbsp\; On November 28\, 2015\, join The Tri-Town and many other organizations across the country in supporting local businesses in your area by shopping small.</span></span></span></span><span style="color:black\;"><span style="font-family:arial\,sans-serif\;"><span style="font-size:16.0pt\;">&nbsp\;<span style="background-image:initial\;background-attachment:initial\;background-size:initial\;background-origin:initial\;background-clip:initial\;background-position:initial\;background-repeat:initial\;">Small businesses are the</span>&nbsp\;<span style="background-image:initial\;background-attachment:initial\;background-size:initial\;background-origin:initial\;background-clip:initial\;background-position:initial\;background-repeat:initial\;">heart of every community and the backbone of the nation&#39\;s economy. &nbsp\;</span></span></span></span></strong>
LOCATION:
UID:e.1730.1847
SEQUENCE:3
DTSTAMP:20260419T154541Z
URL:https://www.tri-townchamber.org/events/details/small-business-saturday-11-28-2015-1847
END:VEVENT

END:VCALENDAR
