BEGIN:VCALENDAR
VERSION:2.0
PRODID:-//ChamberMaster//Event Calendar 2.0//EN
METHOD:PUBLISH
X-PUBLISHED-TTL:P3D
REFRESH-INTERVAL:P3D
CALSCALE:GREGORIAN
BEGIN:VEVENT
DTSTART:20150506T230000Z
DTEND:20150507T003000Z
X-MICROSOFT-CDO-ALLDAYEVENT:FALSE
SUMMARY:Sinusitis: Medical and Surgical Options for Care
DESCRIPTION:Brigham and Women's/Mass General Health Care Center's mission is to improve the health and wellness of the greater Foxborough area. As part of that mission\, we are offering a series of free health classes this spring that are open to all.\n\n \n\nJoin Brigham and Women's Ear\, Nose\, and Throat (ENT) physician Anthony Prince\, MD to learn the range of options -- both medical and surgical -- available for those suffering from sinusitis. Free and open to all - registration required to ensure adequate seating.
X-ALT-DESC;FMTTYPE=text/html:<span style="font-size: 12px\;"><span style="color: rgb(51\, 51\, 51)\;"><span style="font-family: arial\,sans-serif\;">Brigham and Women&#39\;s/Mass General Health Care Center&#39\;s mission is to improve the health and wellness of the greater Foxborough area. As part of that mission\, we are offering a series of free health classes this spring that are open to all.</span></span><br />\n&nbsp\;<br />\n<span style="color: rgb(51\, 51\, 51)\;"><span style="font-family: arial\,sans-serif\;">Join Brigham and Women&#39\;s Ear\, Nose\, and Throat (ENT) physician Anthony Prince\, MD to learn the range of options -- both medical and surgical -- available for those suffering from sinusitis. Free and open to all - registration required to ensure adequate seating.</span></span></span>
LOCATION:Brigham and Women's/Mass General Health Care Center 2d floor conference room 20 Patriot Place Foxborough\, MA
UID:e.1730.1639
SEQUENCE:3
DTSTAMP:20260420T032622Z
URL:https://www.tri-townchamber.org/events/details/sinusitis-medical-and-surgical-options-for-care-05-06-2015-1639
END:VEVENT

END:VCALENDAR
