BEGIN:VCALENDAR
VERSION:2.0
PRODID:-//ChamberMaster//Event Calendar 2.0//EN
METHOD:PUBLISH
X-PUBLISHED-TTL:P3D
REFRESH-INTERVAL:P3D
CALSCALE:GREGORIAN
BEGIN:VEVENT
DTSTART:20150519T230000Z
DTEND:20150520T003000Z
X-MICROSOFT-CDO-ALLDAYEVENT:FALSE
SUMMARY:Shingles and Lyme Disease De-mystified: What Everyone Needs to Know
DESCRIPTION:Brigham and Women's/Mass General Health Care Center's mission is to improve the health and wellness of the greater Foxborough area. As part of that mission\, we are offering a series of free health classes this spring that are open to all.\n\n\n\nJoin the Brigham and Women's/Mass General Health Care Center's Urgent Care Medical Director\, Calvin Brown\, MD as he explains two diseases that you have certainly heard about but may wonder how exactly does someone get them and what you can do to protect yourself.  You will learn who is at risk\, the signs and symptoms of each for early diagnosis and the first steps in seeking medical treatment.\n\n \n\nCo-sponsored by Brigham and Women's/Mass General Health Care Center and the Foxborough Board of Health
X-ALT-DESC;FMTTYPE=text/html:<span style="font-family: arial\,helvetica\,sans-serif\;"><span style="font-size: 14px\;"><span style="color: rgb(82\, 97\, 109)\;">Brigham and Women&#39\;s/Mass General Health Care Center&#39\;s mission is to improve the health and wellness of the greater Foxborough area. As part of that mission\, we are offering a series of free health classes this spring that are open to all.</span><br />\n<br />\nJoin the Brigham </span>and Women&rsquo\;s/Mass General Health Care Center&rsquo\;s Urgent Care Medical Director\, Calvin Brown\, MD as he explains two diseases that you have certainly heard about but may wonder how exactly does someone get them and what you can do to protect yourself.&nbsp\; You will learn who is at risk\, the signs and symptoms of each for early diagnosis and the first steps in seeking medical treatment.<br />\n&nbsp\;<br />\n<em>Co-sponsored by Brigham and Women&rsquo\;s/Mass General Health Care Center and the Foxborough Board of Health</em></span><br />\n&nbsp\;
LOCATION:Foxborough Public Safety Building McGinty Room 8 Chestnut Street Foxborough\, MA
UID:e.1730.1644
SEQUENCE:3
DTSTAMP:20260420T032626Z
URL:https://www.tri-townchamber.org/events/details/shingles-and-lyme-disease-de-mystified-what-everyone-needs-to-know-05-19-2015-1644
END:VEVENT

END:VCALENDAR
