BEGIN:VCALENDAR
VERSION:2.0
PRODID:-//ChamberMaster//Event Calendar 2.0//EN
METHOD:PUBLISH
X-PUBLISHED-TTL:P3D
REFRESH-INTERVAL:P3D
CALSCALE:GREGORIAN
BEGIN:VEVENT
DTSTART:20140425T130000Z
DTEND:20140425T180000Z
X-MICROSOFT-CDO-ALLDAYEVENT:FALSE
SUMMARY:Senior Spectacular
DESCRIPTION:On Friday\, April 25\, 2014 from 9AM to 2PM\, Representative Elizabeth Poirier and area senior providers will once again host the Senior Spectacular. This combination wellness and resource fair will take place at the North Attleboro Middle School\, 564 Landry Avenue in North Attleboro.\n\n \n\nOver 100 vendors will be on hand to showcase their products and services\, distribute information\, answer questions and share resources.\n\n \n\nSpecialized workshops relating to health benefits and estate planning will be offered along with health screenings. In addition Free coffee and donuts will be provided for breakfast as well as free boxed lunch. The day concludes with a giant raffle and a fashion show with local celebrities .\n\n \n\nPlease save the date. Registration forms are available at the following senior centers: Attleboro\, Easton\, Foxboro\, Mansfield\, Norton\, North Attleboro\, Plainville\, Raynham\, Rehoboth\, Seekonk\, Taunton and Wrentham.\n\n \n\nContact\, Diana Amaral\, legislative aide to Representative Elizabeth Poirier at 617-722-2100 with any questions.
X-ALT-DESC;FMTTYPE=text/html:On Friday\, April 25\, 2014 from 9AM to 2PM\, Representative Elizabeth Poirier and area senior providers will once again host the Senior Spectacular. This combination wellness and resource fair will take place at the North Attleboro Middle School\, 564 Landry Avenue in North Attleboro.<br />\n&nbsp\;<br />\nOver 100 vendors will be on hand to showcase their products and services\, distribute information\, answer questions and share resources.<br />\n&nbsp\;<br />\nSpecialized workshops relating to health benefits and estate planning will be offered along with health screenings. In addition Free coffee and donuts will be provided for breakfast as well as free boxed lunch. The day concludes with a giant raffle and a fashion show with local celebrities .<br />\n&nbsp\;<br />\nPlease save the date. Registration forms are available at the following senior centers: Attleboro\, Easton\, Foxboro\, Mansfield\, Norton\, North Attleboro\, Plainville\, Raynham\, Rehoboth\, Seekonk\, Taunton and Wrentham.<br />\n&nbsp\;<br />\nContact\, Diana Amaral\, legislative aide to Representative Elizabeth Poirier at 617-722-2100 with any questions.<br />\n&nbsp\;
LOCATION:North Attleboro Middle School\, 564 Landry Avenue in North Attleboro
UID:e.1730.974
SEQUENCE:3
DTSTAMP:20260421T014733Z
URL:https://www.tri-townchamber.org/events/details/senior-spectacular-04-25-2014-974
END:VEVENT

END:VCALENDAR
