BEGIN:VCALENDAR
VERSION:2.0
PRODID:-//ChamberMaster//Event Calendar 2.0//EN
METHOD:PUBLISH
X-PUBLISHED-TTL:P3D
REFRESH-INTERVAL:P3D
CALSCALE:GREGORIAN
BEGIN:VEVENT
DTSTART:20140416T220000Z
DTEND:20140416T233000Z
X-MICROSOFT-CDO-ALLDAYEVENT:FALSE
SUMMARY:Seller/Buyer - Education Seminar
DESCRIPTION:This is a must attend seminar for you! \n\nNot sure on where to start the buying or selling process? Unsure on how to coordinate your sell to buy transaction? \n\nEnjoy appetizers and cocktails while we cover all of these topics and more. From beginning your home search to the difficulties in today's market with the lack of inventory and how to overcome all the obstacles you'll face. You'll be listening to top producers in the Real Estate and lending fields along with an attorney who specializes in Real Estate transactions - Option Realty\, Guaranteed Rate Mortgage\, Lepizzera Laprocina\n\nThere will be a short presentation then a formal Q & A session followed by an informal meet and greet with our professionals. You don't want to miss this event\, so register today!
X-ALT-DESC;FMTTYPE=text/html:<p class="Pa1"><span class="A2"><span style="font-size:15.0pt">This is a must attend seminar for you! </span></span></p>\n\n<p class="Pa1"><span class="A11"><span style="font-size:13.5pt">Not sure on where to start the buying or selling process? Unsure on how to coordinate your sell to buy transaction? </span></span></p>\n\n<p class="Pa1"><span class="A11"><span style="font-size:13.5pt">Enjoy appetizers and cocktails while we cover all of these topics and more. From beginning your home search to the difficulties in today&rsquo\;s market with the lack of inventory and how to overcome all the obstacles you&rsquo\;ll face. You&rsquo\;ll be listening to top producers in the Real Estate and lending fields along with an attorney who specializes in Real Estate transactions - Option Realty\, Guaranteed Rate Mortgage\, Lepizzera Laprocina</span></span></p>\n\n<p class="Pa1"><span class="A11"><span style="font-size:13.5pt">There will be a short presentation then a formal Q &amp\; A session followed by an informal meet and greet with our professionals. You don&rsquo\;t want to miss this event\, so register today! </span></span><br />\n<br />\n&nbsp\;</p>\n
LOCATION:Bertucci's Restaurant - Mansfield Crossing 280 School Street\, Mansfield\, MA 02048
UID:e.1730.990
SEQUENCE:3
DTSTAMP:20260421T000523Z
URL:https://www.tri-townchamber.org/events/details/seller-buyer-education-seminar-04-16-2014-990
END:VEVENT

END:VCALENDAR
