BEGIN:VCALENDAR
VERSION:2.0
PRODID:-//ChamberMaster//Event Calendar 2.0//EN
METHOD:PUBLISH
X-PUBLISHED-TTL:P3D
REFRESH-INTERVAL:P3D
CALSCALE:GREGORIAN
BEGIN:VEVENT
DTSTART:20140911T120000Z
DTEND:20140911T133000Z
X-MICROSOFT-CDO-ALLDAYEVENT:FALSE
SUMMARY:SBA Advantage
DESCRIPTION:"The SBA Advantage"   An overview of SBA's programs and services\n\n \n\nThis FREE workshop will help you gain a better understanding of the various SBA programs and services that are available to prospective or current entrepreneurs who need assistance in starting or expanding their businesses.  General information will be provided on the following programs and services:   \n\n	 SCORE   Counselors to America's Small Business\n	 Small Business Development Centers\n	 Women's Business Centers\n	 SBA Loan Guaranty Program\n	 8(a) Business Development Program\n	 HUBZone (Historically Underutilized Business Zones) Program\n	 Government Contracting Opportunities\n\nMatthew R. Sisk\, Economic Development Specialist with the U.S. Small Business Administration\n\n \n\nSBA's cooperation does not constitute or imply endorsement of any opinions\, products\, and/or services.  All SBA programs are extended to the public on a non-discriminatory basis.  Handicapped Accessible.
X-ALT-DESC;FMTTYPE=text/html:<strong>&ldquo\;The SBA Advantage&rdquo\; &nbsp\;&nbsp\;</strong>An overview of SBA&rsquo\;s programs and services<br />\n&nbsp\;<br />\nThis FREE workshop will help you gain a better understanding of the various SBA programs and services that are available to prospective or current entrepreneurs who need assistance in starting or expanding their businesses.&nbsp\; General information will be provided on the following programs and services:&nbsp\;&nbsp\;&nbsp\;\n<ul>\n	<li>&nbsp\;SCORE &ndash\; Counselors to America&rsquo\;s Small Business</li>\n	<li>&nbsp\;Small Business Development Centers</li>\n	<li>&nbsp\;Women&rsquo\;s Business Centers</li>\n	<li>&nbsp\;SBA Loan Guaranty Program</li>\n	<li>&nbsp\;8(a) Business Development Program</li>\n	<li>&nbsp\;HUBZone (Historically Underutilized Business Zones) Program</li>\n	<li>&nbsp\;Government Contracting Opportunities</li>\n</ul>\nMatthew R. Sisk\, Economic Development Specialist with the U.S. Small Business Administration<br />\n&nbsp\;<br />\n<em><span style="font-size:12px\;">SBA&rsquo\;s cooperation does not constitute or imply endorsement of any opinions\, products\, and/or services.&nbsp\; All SBA programs are extended to the public on a non-discriminatory basis.&nbsp\; Handicapped Accessible.&nbsp\;</span></em>
LOCATION:at the Tri-Town Chamber of Commerce 280 School St.\, Mansfield (behind and to the right of Kohls)
UID:e.1730.1048
SEQUENCE:3
DTSTAMP:20260420T145913Z
URL:https://www.tri-townchamber.org/events/details/sba-advantage-09-11-2014-1048
END:VEVENT

END:VCALENDAR
