BEGIN:VCALENDAR
VERSION:2.0
PRODID:-//ChamberMaster//Event Calendar 2.0//EN
METHOD:PUBLISH
X-PUBLISHED-TTL:P3D
REFRESH-INTERVAL:P3D
CALSCALE:GREGORIAN
BEGIN:VEVENT
DTSTART:20140914T123000Z
DTEND:20140914T153000Z
X-MICROSOFT-CDO-ALLDAYEVENT:FALSE
SUMMARY:Ryan's Hope PAL-apalooza sponsored by Panera feat Ryan's 5K Color Dash & Splash
DESCRIPTION:Proudly sponsored by Panera Bread Proudly hosted by Plainville Athletic League Walk\, Run\, Skip\, Hop\, Jump or Cartwheel your way to COLOR fun fitness! Register at www.HopeForRyan.com $20 Adults\, $15 Children\, Free under 5 OR $5 donation per person at the door includes: DJ Dance Party\, Sports Bouncy House\, Face Painting Fun\, Baseball Activities by PAL\, Photo Booth\, Touch-a-Truck\, 98.1 Cat Country Crew\, Free Breakfast by Panera Catering & Prize Wheel\, PLUS a Panera vs. PAL Softball Game! Together we can strike out Duchenne Muscular Distrophy! All proceeds will benefit the Ryans Hastings Trust to help the Hastings family of Plainville with their medical expenses related to supporting the needs of their son Ryan. Interested in volunteering? Email Marketing@HowleyBread.com
X-ALT-DESC;FMTTYPE=text/html:Proudly sponsored by Panera Bread Proudly hosted by Plainville Athletic League Walk\, Run\, Skip\, Hop\, Jump or Cartwheel your way to COLOR fun fitness! Register at www.HopeForRyan.com $20 Adults\, $15 Children\, Free under 5 OR $5 donation per person at the door includes: DJ Dance Party\, Sports Bouncy House\, Face Painting Fun\, Baseball Activities by PAL\, Photo Booth\, Touch-a-Truck\, 98.1 Cat Country Crew\, Free Breakfast by Panera Catering &amp\; Prize Wheel\, PLUS a Panera vs. PAL Softball Game! Together we can strike out Duchenne Muscular Distrophy! All proceeds will benefit the Ryans Hastings Trust to help the Hastings family of Plainville with their medical expenses related to supporting the needs of their son Ryan. Interested in volunteering? Email Marketing@HowleyBread.com
LOCATION:Plainville Athletic League field complex at field complex on Everett Skinner Rd
UID:e.1730.1050
SEQUENCE:3
DTSTAMP:20260420T150533Z
URL:https://www.tri-townchamber.org/events/details/ryan-s-hope-pal-apalooza-sponsored-by-panera-feat-ryan-s-5k-color-dash-splash-09-14-2014-1050
END:VEVENT

END:VCALENDAR
