BEGIN:VCALENDAR
VERSION:2.0
PRODID:-//ChamberMaster//Event Calendar 2.0//EN
METHOD:PUBLISH
X-PUBLISHED-TTL:P3D
REFRESH-INTERVAL:P3D
CALSCALE:GREGORIAN
BEGIN:VEVENT
DTSTART:20260509T120000Z
DTEND:20260509T150000Z
X-MICROSOFT-CDO-ALLDAYEVENT:FALSE
SUMMARY:Run\, Walk & Wag for Kids
DESCRIPTION:The Ultimate Dog-Friendly 5K Run & Walk is back! \n\nJoin us for a delightful morning bursting with camaraderie\, music\, refreshments\, prizes and tailwags.
X-ALT-DESC;FMTTYPE=text/html:<p>The Ultimate Dog-Friendly 5K Run &amp\; Walk is back!&nbsp\;</p>\n\n<p>Join us for a delightful morning bursting with&nbsp\;camaraderie\,&nbsp\;music\, refreshments\, prizes and&nbsp\;tailwags.&nbsp\;&nbsp\;&nbsp\;</p>\n
LOCATION:Borderland State Park\, 259 Massapoag Ave. Easton\, MA 02356-3622
UID:e.1730.8488
SEQUENCE:3
DTSTAMP:20260425T215050Z
URL:https://www.tri-townchamber.org/events/details/run-walk-wag-for-kids-8488
END:VEVENT

END:VCALENDAR
