BEGIN:VCALENDAR
VERSION:2.0
PRODID:-//ChamberMaster//Event Calendar 2.0//EN
METHOD:PUBLISH
X-PUBLISHED-TTL:P3D
REFRESH-INTERVAL:P3D
CALSCALE:GREGORIAN
BEGIN:VEVENT
DTSTART:20140509T140000Z
DTEND:20140510T030000Z
X-MICROSOFT-CDO-ALLDAYEVENT:FALSE
SUMMARY:Ribbon Cutting: Wicked Vaped
DESCRIPTION:Please Join us in welcoming Wicked Vaped to Mansfield\, the Tri-Town Chamber of Commerce will be holding a Ribbon Cutting Ceremony celebrating their opening on Friday\, May 9th at 10:00am the store is located at 244 N Main St Mansfield
X-ALT-DESC;FMTTYPE=text/html:Please Join us in welcoming Wicked Vaped to Mansfield\, the Tri-Town Chamber of Commerce will be holding a Ribbon Cutting Ceremony celebrating their opening on Friday\, May 9th at 10:00am the store is located at 244 N Main St Mansfield&nbsp\;
LOCATION:244 North Main Street\, Mansfield
UID:e.1730.995
SEQUENCE:3
DTSTAMP:20260420T222101Z
URL:https://www.tri-townchamber.org/events/details/ribbon-cutting-wicked-vaped-05-09-2014-995
END:VEVENT

END:VCALENDAR
