BEGIN:VCALENDAR
VERSION:2.0
PRODID:-//ChamberMaster//Event Calendar 2.0//EN
METHOD:PUBLISH
X-PUBLISHED-TTL:P3D
REFRESH-INTERVAL:P3D
CALSCALE:GREGORIAN
BEGIN:VEVENT
DTSTART:20140522T114500Z
DTEND:20140522T124500Z
X-MICROSOFT-CDO-ALLDAYEVENT:FALSE
SUMMARY:Ribbon Cutting: The Sage School
DESCRIPTION:Please Join us in welcoming the Sage School to the Tri-Town Chamber of Commerce. We will be holding a Ribbon Cutting Ceremony on Thursday\, May 22nd the school is located at 171 Mechanic Street in Foxborough.\n\n\n\nAbout: The Sage School is a private independent school for advanced academic learners in grades Pre-K through 8. A leader in the field of gifted education\, Sage also offers summer/afterschool programs.
X-ALT-DESC;FMTTYPE=text/html:<span style="color: rgb(82\, 97\, 109)\; font-family: Cuprum\, sans-serif\; font-size: 14px\; line-height: 18.200000762939453px\;">Please Join us in welcoming the Sage School to the Tri-Town Chamber of Commerce. We will be holding a Ribbon Cutting Ceremony on Thursday\, May 22nd&nbsp\;the school is located at 171 Mechanic Street in Foxborough.<br />\n<br />\nAbout: The Sage School is a private independent school for advanced academic learners in grades Pre-K through 8. A leader in the field of gifted education\, Sage also offers summer/afterschool programs.</span><br />\n&nbsp\;
LOCATION:171 Mechanic Street in Foxborough
UID:e.1730.996
SEQUENCE:3
DTSTAMP:20260420T222139Z
URL:https://www.tri-townchamber.org/events/details/ribbon-cutting-the-sage-school-05-22-2014-996
END:VEVENT

END:VCALENDAR
