BEGIN:VCALENDAR
VERSION:2.0
PRODID:-//ChamberMaster//Event Calendar 2.0//EN
METHOD:PUBLISH
X-PUBLISHED-TTL:P3D
REFRESH-INTERVAL:P3D
CALSCALE:GREGORIAN
BEGIN:VEVENT
DTSTART:20140318T150000Z
DTEND:20140318T154500Z
X-MICROSOFT-CDO-ALLDAYEVENT:FALSE
SUMMARY:Ribbon Cutting: Razoux & Co. Hair Salon and Blow Out Bar
DESCRIPTION:Come Join us in celebrating New Chamber Member Razoux & Co. Hair Salon and Blow Out Bar with a Ribbon Cutting Ceremony. They have opened their doors at a gorgeous new location. The Ribbon Cutting will take place at 11am on Tuesday March 18th. \n\n \n\nRazoux & Co. Hair Salon and Blow Out Bar Offering the very best in hair care\, coloring services\, precision cuts and expert thermal and finish styling.
X-ALT-DESC;FMTTYPE=text/html:<span style="font-size:14px\;"><span style="font-family:arial\;">Come Join us in celebrating New Chamber Member&nbsp\;<strong>Razoux &amp\; Co. Hair Salon and Blow Out Bar</strong> with a Ribbon Cutting Ceremony. They have opened their doors at a gorgeous new location. The Ribbon Cutting will take place at 11am on Tuesday March 18th.&nbsp\;<br />\n&nbsp\;<br />\n<em><strong>Razoux &amp\; Co. Hair Salon and Blow Out Bar </strong></em>Offering the very best in hair care\, coloring services\, precision cuts and expert thermal and finish styling.</span></span><br />\n&nbsp\;
LOCATION:488 W. Center St. W. Bridgewater\, MA 02379 (Route 106)
UID:e.1730.977
SEQUENCE:3
DTSTAMP:20260421T015340Z
URL:https://www.tri-townchamber.org/events/details/ribbon-cutting-razoux-co-hair-salon-and-blow-out-bar-03-18-2014-977
END:VEVENT

END:VCALENDAR
