BEGIN:VCALENDAR
VERSION:2.0
PRODID:-//ChamberMaster//Event Calendar 2.0//EN
METHOD:PUBLISH
X-PUBLISHED-TTL:P3D
REFRESH-INTERVAL:P3D
CALSCALE:GREGORIAN
BEGIN:VEVENT
DTSTART:20140310T213000Z
DTEND:20140310T223000Z
X-MICROSOFT-CDO-ALLDAYEVENT:FALSE
SUMMARY:Ribbon Cutting Radius Financial
DESCRIPTION:Come Join us in celebrating Radius Financial new location in Mansfield with a Ribbon Cutting at 5:30pm on Monday March 10.\n\n\n\nAbout Radius Financial  When people come to radius financial group inc.\, what they get is a better mortgage experience. Since the company's launch 15 years ago\, that's been our mission: to make the mortgage lending process better for everyone. It's why we do business differently from other lenders\, and what sets us apart from most.\n\n \n\nAt radius\, our success depends on integrity and trust. Our team of seasoned mortgage professionals offers guidance and support to clients at every turn\, so they can make sound\, well-informed decisions. By consistently providing honest\, accurate information\, our industry partners and borrowers know we're here to help them succeed. As we continue to grow\, we plan to keep delivering that high-quality service to even more communities throughout New England and beyond.
X-ALT-DESC;FMTTYPE=text/html:Come Join us in celebrating Radius Financial new location in Mansfield with a Ribbon Cutting at 5:30pm on Monday March 10.<br />\n<br />\n<em><span style="font-size:12px\;"><span style="font-family:arial\;"><span style="color:#000000\;"><span style="line-height: 18px\;"><strong>About Radius Financial &nbsp\;</strong></span></span></span></span></em>When people come to radius financial group inc.\, what they get is a better mortgage experience. Since the company&#39\;s launch 15 years ago\, that&rsquo\;s been our mission: to make the mortgage lending process better for everyone. It&rsquo\;s why we do business differently from other lenders\, and what sets us apart from most.<br />\n&nbsp\;<br />\nAt radius\, our success depends on integrity and trust. Our team of seasoned mortgage professionals offers guidance and support to clients at every turn\, so they can make sound\, well-informed decisions. By consistently providing honest\, accurate information\, our industry partners and borrowers know we&rsquo\;re here to help them succeed. As we continue to grow\, we plan to keep delivering that high-quality service to even more communities throughout New England and beyond.
LOCATION:214 Rumford Ave.\, Mansfield\, MA 02048
UID:e.1730.970
SEQUENCE:3
DTSTAMP:20260421T014928Z
URL:https://www.tri-townchamber.org/events/details/ribbon-cutting-radius-financial-03-10-2014-970
END:VEVENT

END:VCALENDAR
