BEGIN:VCALENDAR
VERSION:2.0
PRODID:-//ChamberMaster//Event Calendar 2.0//EN
METHOD:PUBLISH
X-PUBLISHED-TTL:P3D
REFRESH-INTERVAL:P3D
CALSCALE:GREGORIAN
BEGIN:VEVENT
DTSTART:20140123T220000Z
DTEND:20140124T000000Z
X-MICROSOFT-CDO-ALLDAYEVENT:FALSE
SUMMARY:Ribbon Cutting & Open House Real Cool TV
DESCRIPTION:Come Join us in celebrating Real Cool TV new location in Mansfield with a Ribbon Cutting at 5:00pm on Thursday\, January 23rd. Immediately following the ceremony Real Cool invites you to stay and network while enjoying refreshments.\n\n\n\nReal Cool TV is an integrated marketing\, production & technology company that specializes in the use of video\, animations & digital media helping companies develop tools for marketing\, training\, etc.
X-ALT-DESC;FMTTYPE=text/html:Come Join us in celebrating Real Cool TV new location in Mansfield with a Ribbon Cutting at 5:00pm on Thursday\, January 23rd. Immediately following the ceremony Real Cool invites you to stay and network while enjoying refreshments.<br />\n<br />\n<em><span style="font-size:12px\;"><span style="font-family:arial\;"><span style="color:#000000\;"><span style="line-height: 18px\;"><strong>Real Cool TV </strong>is an integrated marketing\, production &amp\; technology company that specializes in the use of video\, animations &amp\; digital media helping companies develop tools for marketing\, training\, etc.</span></span></span></span></em>
LOCATION:800 South Main Street\, Suite 203 Mansfield\, MA 02048 We are located just of the 495 across the road from Comcast Center (if you are lost follow the high-way signs to Comcast Center) For GPS Users: Use 11 Reservoir Street\, Mansfield\, MA 02048
UID:e.1730.451
SEQUENCE:3
DTSTAMP:20260421T051853Z
URL:https://www.tri-townchamber.org/events/details/ribbon-cutting-open-house-real-cool-tv-01-23-2014-451
END:VEVENT

END:VCALENDAR
