BEGIN:VCALENDAR
VERSION:2.0
PRODID:-//ChamberMaster//Event Calendar 2.0//EN
METHOD:PUBLISH
X-PUBLISHED-TTL:P3D
REFRESH-INTERVAL:P3D
CALSCALE:GREGORIAN
BEGIN:VEVENT
DTSTART:20140515T160000Z
DTEND:20140515T170000Z
X-MICROSOFT-CDO-ALLDAYEVENT:FALSE
SUMMARY:Ribbon Cutting: Old Station Outdoor & Landscaping
DESCRIPTION:Please Join us in welcoming Old Station Outdoor & Landscape Supply of Norton to the Tri-Town Chamber of Commerce\, we invite you to a Ribbon Cutting ceremony on Thursday\, May 15th at 12:00\n\n \n\nOld Station Outdoor & Landscape Supply is located at 142 East Main Street in Norton\n\n \n\nAbout    Welcome to Old Station Outdoor & Landscape Supply! We carry a full line of quality landscape and masonry supplies at the best prices. Conveniently located just off of I-495 on Route 123 in Norton\, MA\n\nhttp://oldstationlandscapesupply.com/
X-ALT-DESC;FMTTYPE=text/html:Please Join us in welcoming Old Station Outdoor &amp\; Landscape Supply of Norton to the Tri-Town Chamber of Commerce\, we invite you to a Ribbon Cutting ceremony on Thursday\, May 15th at 12:00<br />\n&nbsp\;<br />\nOld Station Outdoor &amp\; Landscape Supply is located at 142 East Main Street in Norton<br />\n&nbsp\;<br />\n<strong>About&nbsp\;&nbsp\;&nbsp\; </strong>Welcome to Old Station Outdoor &amp\; Landscape Supply! We carry a full line of quality landscape and masonry supplies at the best prices. Conveniently located just off of I-495 on Route 123 in Norton\, MA<br />\n<a href="http://oldstationlandscapesupply.com/">http://oldstationlandscapesupply.com/</a>
LOCATION:142 East Main Street\, Norton
UID:e.1730.1005
SEQUENCE:3
DTSTAMP:20260421T000728Z
URL:https://www.tri-townchamber.org/events/details/ribbon-cutting-old-station-outdoor-landscaping-05-15-2014-1005
END:VEVENT

END:VCALENDAR
