BEGIN:VCALENDAR
VERSION:2.0
PRODID:-//ChamberMaster//Event Calendar 2.0//EN
METHOD:PUBLISH
X-PUBLISHED-TTL:P3D
REFRESH-INTERVAL:P3D
CALSCALE:GREGORIAN
BEGIN:VEVENT
DTSTART:20131017T193000Z
DTEND:20131017T203000Z
X-MICROSOFT-CDO-ALLDAYEVENT:FALSE
SUMMARY:Ribbon Cutting: Jack Conway New Location
DESCRIPTION:Ribbon Cutting to celebrate Jack Conway new location in Mansfield
X-ALT-DESC;FMTTYPE=text/html:Ribbon Cutting to celebrate Jack Conway new location in Mansfield
LOCATION:66 West Street in Mansfield
UID:e.1730.415
SEQUENCE:3
DTSTAMP:20260421T113719Z
URL:https://www.tri-townchamber.org/events/details/ribbon-cutting-jack-conway-new-location-10-17-2013-415
END:VEVENT

END:VCALENDAR
