BEGIN:VCALENDAR
VERSION:2.0
PRODID:-//ChamberMaster//Event Calendar 2.0//EN
METHOD:PUBLISH
X-PUBLISHED-TTL:P3D
REFRESH-INTERVAL:P3D
CALSCALE:GREGORIAN
BEGIN:VEVENT
DTSTART:20131211T140000Z
DTEND:20131211T143000Z
X-MICROSOFT-CDO-ALLDAYEVENT:FALSE
SUMMARY:Ribbon Cutting: Great Clips\, Mansfield
DESCRIPTION:Please Join us at a Ribbon Cutting Celebration in welcoming new Chamber member Great Clips of Mansfield.\n\n\n\nAt Great Clips\, you can relax\, because you know you will get an affordable\, quality haircut in a comfortable\, friendly salon.
X-ALT-DESC;FMTTYPE=text/html:Please Join us at a <strong>Ribbon Cutting Celebration</strong> in welcoming new Chamber member Great Clips of Mansfield.<br />\n<br />\n<em>At Great Clips\, you can relax\, because you know you will get an affordable\, quality haircut in a comfortable\, friendly salon.<br />\n&nbsp\;</em><br />\n
LOCATION:377 Chauncy Street Mansfield in the Stop and Shop Plaza
UID:e.1730.438
SEQUENCE:3
DTSTAMP:20260421T064209Z
URL:https://www.tri-townchamber.org/events/details/ribbon-cutting-great-clips-mansfield-12-11-2013-438
END:VEVENT

END:VCALENDAR
