BEGIN:VCALENDAR
VERSION:2.0
PRODID:-//ChamberMaster//Event Calendar 2.0//EN
METHOD:PUBLISH
X-PUBLISHED-TTL:P3D
REFRESH-INTERVAL:P3D
CALSCALE:GREGORIAN
BEGIN:VEVENT
DTSTART:20140530T210000Z
DTEND:20140530T230000Z
X-MICROSOFT-CDO-ALLDAYEVENT:FALSE
SUMMARY:Ribbon Cutting & Grand Opening Community Care Pharmacy
DESCRIPTION:GRAND OPENING AND RIBBON CUTTING\n\nOn Friday\, May 30th\, 2014\, the public is invited to a grand opening and ribbon cutting ceremony of Community Care Pharmacy located at 214 Rumford Avenue\, Mansfield MA 02048. This store is comprehensive in nature and features all your pharmaceutical as well as beer/wine needs. This event is between 3PM to 7PM and will feature complementary gift items for our earliest customers\, tastings\, demonstrations\, and samplings from different vendors. Come and meet our team of dedicated pharmacists and associates! We strive to continue a tradition of friendly neighborhood customer service by caring for our customer's health and general well being.\n\n All are welcome!\n\n\n\nCommunity Care Pharmacy\, Inc Ribbon Cutting will be held at 5:00pm on Friday May 30th.
X-ALT-DESC;FMTTYPE=text/html:GRAND OPENING AND RIBBON CUTTING<br />\nOn Friday\, May 30th\, 2014\, the public is invited to a grand opening and ribbon cutting ceremony of <strong>Community Care Pharmacy</strong> located at 214 Rumford Avenue\, Mansfield MA 02048. This store is comprehensive in nature and features all your pharmaceutical as well as beer/wine needs. This event is between 3PM to 7PM and will feature complementary gift items for our earliest customers\, tastings\, demonstrations\, and samplings from different vendors. Come and meet our team of dedicated pharmacists and associates! We strive to continue a tradition of friendly neighborhood customer service by caring for our customer&rsquo\;s health and general well being.<br />\n&nbsp\;All are welcome!<br />\n<br />\nCommunity Care Pharmacy\, Inc Ribbon Cutting will be held at 5:00pm on Friday May 30th.<br />\n<br />\n&nbsp\;
LOCATION:214 Rumford Ave.\, Mansfield\, MA 02048
UID:e.1730.1016
SEQUENCE:3
DTSTAMP:20260420T222418Z
URL:https://www.tri-townchamber.org/events/details/ribbon-cutting-grand-opening-community-care-pharmacy-05-30-2014-1016
END:VEVENT

END:VCALENDAR
