BEGIN:VCALENDAR
VERSION:2.0
PRODID:-//ChamberMaster//Event Calendar 2.0//EN
METHOD:PUBLISH
X-PUBLISHED-TTL:P3D
REFRESH-INTERVAL:P3D
CALSCALE:GREGORIAN
BEGIN:VEVENT
DTSTART:20130917T143000Z
DTEND:20130917T153000Z
X-MICROSOFT-CDO-ALLDAYEVENT:FALSE
SUMMARY:Ribbon Cutting: CrossFit Torque
DESCRIPTION:Tri-Town Chamber of Commerce would like to announce a Ribbon Cutting to celebrate CrossFit Torque new location in Foxboro.  Support local business - CrossFit Torque by attending a Ribbon Cutting \n\n\n\n"CrossFit Torque is proud to announce the re-grand opening of our new fitness and sports performance facility. CrossFit Torque was established in Dec 2010 by siblings Richard and Amanda Chace\, as well as their parents Don & Nancy Chace and Sister Christine. Our first facility was in a 800 sq ft garage bay\, but we quickly outgrew that space and just newly built a 4000 sq ft facility on route 1 in Foxboro.\n\nCrossFit Torque's mission is to transform your health to a new level allowing you to live a longer\, happier life. Whether you are currently fit or need that jump start\, we will work with you to get you where you want to be.
X-ALT-DESC;FMTTYPE=text/html:<span style="font-size:14px\;">Tri-Town Chamber of Commerce would like to announce a Ribbon Cutting to celebrate CrossFit Torque new location in Foxboro.&nbsp\; Support local business - CrossFit Torque by attending a Ribbon Cutting&nbsp\;<br />\n<br />\n<em>&quot\;CrossFit Torque is proud to announce the re-grand opening of our new fitness and sports performance facility. CrossFit Torque was established in Dec 2010 by siblings Richard and Amanda Chace\, as well as their parents Don &amp\; Nancy Chace and Sister Christine. Our first facility was in a 800 sq ft garage bay\, but we quickly outgrew that space and just newly built a 4000 sq ft facility on route 1 in Foxboro.<br />\nCrossFit Torque&#39\;s mission is to transform your health to a new level allowing you to live a longer\, happier life. Whether you are currently fit or need that jump start\, we will work with you to get you where you want to be.&nbsp\;</em></span><br />\n
LOCATION:129 Washington Street (Rte 1) Foxboro.
UID:e.1730.405
SEQUENCE:3
DTSTAMP:20260421T132116Z
URL:https://www.tri-townchamber.org/events/details/ribbon-cutting-crossfit-torque-09-17-2013-405
END:VEVENT

END:VCALENDAR
