BEGIN:VCALENDAR
VERSION:2.0
PRODID:-//ChamberMaster//Event Calendar 2.0//EN
METHOD:PUBLISH
X-PUBLISHED-TTL:P3D
REFRESH-INTERVAL:P3D
CALSCALE:GREGORIAN
BEGIN:VEVENT
DTSTART:20160211T213000Z
DTEND:20160211T220000Z
X-MICROSOFT-CDO-ALLDAYEVENT:FALSE
SUMMARY:Ribbon Cutting Ceremony at Barrows Insurance Agency and Bradley Childs Accounting & Tax Center
DESCRIPTION:Please Join the Tri-Town Chamber of Commerce in celebrating to Foxborough Businesses with a Ribbon Cutting Ceremony\n\n\n\nThursday\, February 11th at 4:30pm.
X-ALT-DESC;FMTTYPE=text/html:<span style="font-size:18px\;"><span style="font-size:16px\;"><span style="font-family:arial\,sans-serif\;">Please Join the Tri-Town Chamber of Commerce in celebrating to Foxborough Businesses with a Ribbon Cutting Ceremony<br />\n<br />\nThursday\, February 11th&nbsp\;at 4:30pm. </span></span></span><br />\n<br />\n&nbsp\;
LOCATION:46 & 50 Central Street Foxborough MA
UID:e.1730.2111
SEQUENCE:3
DTSTAMP:20260419T161057Z
URL:https://www.tri-townchamber.org/events/details/ribbon-cutting-ceremony-at-barrows-insurance-agency-and-bradley-childs-accounting-tax-center-02-11-2016-2111
END:VEVENT

END:VCALENDAR
