BEGIN:VCALENDAR
VERSION:2.0
PRODID:-//ChamberMaster//Event Calendar 2.0//EN
METHOD:PUBLISH
X-PUBLISHED-TTL:P3D
REFRESH-INTERVAL:P3D
CALSCALE:GREGORIAN
BEGIN:VEVENT
DTSTART:20130927T200000Z
DTEND:20130928T010000Z
X-MICROSOFT-CDO-ALLDAYEVENT:FALSE
SUMMARY:Ribbon Cutting Celebration The National Black Doll Museum
DESCRIPTION:Official Ribbon Cutting of the National Black Doll Museum will be at 6:00pm\n\n\n\nShow\, Sale and Meet the Artists from 4:00-9:00pm
X-ALT-DESC;FMTTYPE=text/html:Official Ribbon Cutting of the National Black Doll Museum will be at 6:00pm<br />\n<br />\nShow\, Sale and Meet the Artists from 4:00-9:00pm
LOCATION:288 North Main Street\, Mansfield MA
UID:e.1730.412
SEQUENCE:3
DTSTAMP:20260421T132253Z
URL:https://www.tri-townchamber.org/events/details/ribbon-cutting-celebration-the-national-black-doll-museum-09-27-2013-412
END:VEVENT

END:VCALENDAR
