BEGIN:VCALENDAR
VERSION:2.0
PRODID:-//ChamberMaster//Event Calendar 2.0//EN
METHOD:PUBLISH
X-PUBLISHED-TTL:P3D
REFRESH-INTERVAL:P3D
CALSCALE:GREGORIAN
BEGIN:VEVENT
DTSTART:20131216T150000Z
DTEND:20131216T153000Z
X-MICROSOFT-CDO-ALLDAYEVENT:FALSE
SUMMARY:Ribbon Cutting: Buffalo Wild Wings
DESCRIPTION:Join us in celebrating new Chamber Member\, Buffalo Wild Wings\, with a Ribbon Cutting Celebration
X-ALT-DESC;FMTTYPE=text/html:Join us in celebrating new Chamber Member\,<strong> Buffalo Wild Wings</strong>\, with a Ribbon Cutting Celebration
LOCATION:321 School Street in Mansfield
UID:e.1730.422
SEQUENCE:3
DTSTAMP:20260421T064308Z
URL:https://www.tri-townchamber.org/events/details/ribbon-cutting-buffalo-wild-wings-12-16-2013-422
END:VEVENT

END:VCALENDAR
