BEGIN:VCALENDAR
VERSION:2.0
PRODID:-//ChamberMaster//Event Calendar 2.0//EN
METHOD:PUBLISH
X-PUBLISHED-TTL:P3D
REFRESH-INTERVAL:P3D
CALSCALE:GREGORIAN
BEGIN:VEVENT
DTSTART:20130910T120000Z
DTEND:20130910T130000Z
X-MICROSOFT-CDO-ALLDAYEVENT:FALSE
SUMMARY:Ribbon Cutting - Brigham and Women?s / Mass General Health Care Center
DESCRIPTION:Come Support fellow Chamber Members the Brigham and Women's / Mass General Health Care Center in Foxborough at Patriot Place for a Ribbon Cutting.\n\n\n\nBrigham and Women's / Mass General Health Care Center is pleased to announce the opening of our new comprehensive Ear Nose and Throat (ENT) services\, including audiology\, for adult and pediatric patients this September.\n\nOur ENT/head and neck surgery specialists at Foxborough provide evaluation\, management\, office-based procedures\, outpatient surgery\, and inpatient surgical consultation for:\n\n   Nasal and sinus problems\n\n   Pediatric ear\, nose\, and throat problems\n\n   Sports injuries to the ear\, nose\, face\, and neck\n\n   Sleep disorders\n\n   Ear disorders\n\n   Hearing disorders\, including hearing loss\n\n   Oral cavity and throat disorders\n\n    Voice and airway disorders\n\n    Head and neck disorders (cancer\, infection\, inflammation\, and lesions)\n\nComplex inpatient surgical procedures take place at Brigham and Women's Hospital\, but most pre- and post-operative care can be performed at our Health Care Center here in Foxborough. Outpatient surgical procedures can be performed at our Foxborough Day Surgery Unit.
X-ALT-DESC;FMTTYPE=text/html:Come Support fellow Chamber Members the&nbsp\;Brigham and Women&rsquo\;s / Mass General Health Care Center in Foxborough at Patriot Place for a Ribbon Cutting.<br />\n<br />\nBrigham and Women&rsquo\;s / Mass General Health Care Center is pleased to announce the opening of our new comprehensive Ear Nose and Throat (ENT) services\, including audiology\, for adult and pediatric patients this September.<br />\nOur ENT/head and neck surgery specialists at Foxborough provide evaluation\, management\, office-based procedures\, outpatient surgery\, and inpatient surgical consultation for:<br />\n&bull\; &nbsp\;Nasal and sinus problems<br />\n&bull\; &nbsp\;Pediatric ear\, nose\, and throat problems<br />\n&bull\; &nbsp\;Sports injuries to the ear\, nose\, face\, and neck<br />\n&bull\; &nbsp\;Sleep disorders<br />\n&bull\; &nbsp\;Ear disorders<br />\n&bull\; &nbsp\;Hearing disorders\, including hearing loss<br />\n&bull\; &nbsp\;Oral cavity and throat disorders<br />\n&bull\; &nbsp\; Voice and airway disorders<br />\n&bull\; &nbsp\; Head and neck disorders (cancer\, infection\, inflammation\, and lesions)<br />\nComplex inpatient surgical procedures take place at Brigham and Women&rsquo\;s Hospital\, but most pre- and post-operative care can be performed at our Health Care Center here in Foxborough. Outpatient surgical procedures can be performed at our Foxborough Day Surgery Unit.<br />\n
LOCATION:Patriot Place in Foxborough
UID:e.1730.402
SEQUENCE:3
DTSTAMP:20260421T114038Z
URL:https://www.tri-townchamber.org/events/details/ribbon-cutting-brigham-and-women-s-mass-general-health-care-center-09-10-2013-402
END:VEVENT

END:VCALENDAR
