BEGIN:VCALENDAR
VERSION:2.0
PRODID:-//ChamberMaster//Event Calendar 2.0//EN
METHOD:PUBLISH
X-PUBLISHED-TTL:P3D
REFRESH-INTERVAL:P3D
CALSCALE:GREGORIAN
BEGIN:VEVENT
DTSTART:20140604T160000Z
DTEND:20140604T164500Z
X-MICROSOFT-CDO-ALLDAYEVENT:FALSE
SUMMARY:Ribbon Cutting: Blue Dragonfly Children's Therapy
DESCRIPTION:Please Join the Tri-Town Chamber of Commerce in welcoming Blue Dragonfly Children's Therapy to Mansfield\, in celebration of this Local Business we invite you to a Ribbon Cutting ceremony on Wednesday\, June 4 at 12:00\n\n \n\nBlue Dragonfly Children's Therapy is a private speech/language practice\, focused on whole-child development: communication skills are built through social\, emotional regulation\, sensory regulation\, motor\, and play skills.\n\n \n\nBlue Dragonfly Children's Therapy\n\n66 West St.\, Ste 3\n\nMansfield \, MA 02048
X-ALT-DESC;FMTTYPE=text/html:Please Join the Tri-Town Chamber of Commerce in welcoming <strong>Blue Dragonfly Children&#39\;s Therapy</strong> to Mansfield\, in celebration of this Local Business we invite you to a Ribbon Cutting ceremony on Wednesday\, June 4 at 12:00<br />\n&nbsp\;<br />\n<em><strong>Blue Dragonfly Children&#39\;s Therapy </strong>is a private speech/language practice\, focused on whole-child development: communication skills are built through social\, emotional regulation\, sensory regulation\, motor\, and play skills.</em><br />\n&nbsp\;<br />\nBlue Dragonfly Children&#39\;s Therapy<br />\n66 West St.\, Ste 3<br />\nMansfield \, MA 02048
LOCATION:66 West St.\, Ste 3 Mansfield \, MA 02048 (located in the Jack Conway Building)
UID:e.1730.1010
SEQUENCE:3
DTSTAMP:20260420T201909Z
URL:https://www.tri-townchamber.org/events/details/ribbon-cutting-blue-dragonfly-children-s-therapy-06-04-2014-1010
END:VEVENT

END:VCALENDAR
