BEGIN:VCALENDAR
VERSION:2.0
PRODID:-//ChamberMaster//Event Calendar 2.0//EN
METHOD:PUBLISH
X-PUBLISHED-TTL:P3D
REFRESH-INTERVAL:P3D
CALSCALE:GREGORIAN
BEGIN:VEVENT
DTSTART:20131017T220000Z
DTEND:20131018T000000Z
X-MICROSOFT-CDO-ALLDAYEVENT:FALSE
SUMMARY:Ribbon Cutting: Alex & Ani at Patriot Place
DESCRIPTION:Please join us in welcoming new Chamber Member Alex & Ani to Patriot Place in Foxboro.\n\n15% of all sales will go direct to New England Patriots Charitable Foundation.\n\nEnjoy light bites and raffles. The first 20 people to attend will receive a complimentary gift.\n\nThere will also be a special appearance by the New England Patriots Cheerleaders
X-ALT-DESC;FMTTYPE=text/html:Please join us in welcoming new Chamber Member Alex &amp\; Ani&nbsp\;to Patriot Place in Foxboro.<br />\n15% of all sales will go direct to New England Patriots Charitable Foundation.<br />\nEnjoy light bites and raffles. The first 20 people to attend will receive a complimentary gift.<br />\nThere will also&nbsp\;be a special appearance by the New England Patriots Cheerleaders
LOCATION:at Patriot Place in Foxboro - North Building 3
UID:e.1730.420
SEQUENCE:3
DTSTAMP:20260421T113851Z
URL:https://www.tri-townchamber.org/events/details/ribbon-cutting-alex-ani-at-patriot-place-10-17-2013-420
END:VEVENT

END:VCALENDAR
