BEGIN:VCALENDAR
VERSION:2.0
PRODID:-//ChamberMaster//Event Calendar 2.0//EN
METHOD:PUBLISH
X-PUBLISHED-TTL:P3D
REFRESH-INTERVAL:P3D
CALSCALE:GREGORIAN
BEGIN:VEVENT
DTSTART:20130814T114500Z
DTEND:20130814T130000Z
X-MICROSOFT-CDO-ALLDAYEVENT:FALSE
SUMMARY:Revealing the Secrets to Your Business Success
DESCRIPTION:Marketing Unzipped Presents:\n\nPanel Discussion: Revealing the Secrets to Your Business Success\n\nDiscover the four crucial elements of an effective communication and marketing strategy at this powerhouse panel discussion for business owners and in-house marketers. Come away with practical\, usable ideas for building buzz and stimulating business growth.\n\n \n\nGuest speakers Monica Bentley\, Cathy Copeland\, Melody Howard Ritt\, and Jen Vondenbrink will provide an entertaining and informative panel discussion of innovative ways to market your services in today's fast-paced business environment. Bring your most challenging marketing questions and be prepared to leave with some great new ideas about branding and design\, Search Engine Optimization (SEO) and website development\, e-content and public relations\, and social media. This can't-miss session is geared for business owners\, in-house marketers and interested individuals who want to sharpen their skills for business success.
X-ALT-DESC;FMTTYPE=text/html:Marketing Unzipped Presents:<br />\nPanel Discussion: Revealing the Secrets to Your Business Success<br />\nDiscover the four crucial elements of an effective communication and marketing strategy at this powerhouse panel discussion for business owners and in-house marketers. Come away with practical\, usable ideas for building buzz and stimulating business growth.<br />\n&nbsp\;<br />\nGuest speakers Monica Bentley\, Cathy Copeland\, Melody Howard Ritt\, and Jen Vondenbrink will provide an entertaining and informative panel discussion of innovative ways to market your services in today&rsquo\;s fast-paced business environment. Bring your most challenging marketing questions and be prepared to leave with some great new ideas about branding and design\, Search Engine Optimization (SEO) and website development\, e-content and public relations\, and social media. This can&rsquo\;t-miss session is geared for business owners\, in-house marketers and interested individuals who want to sharpen their skills for business success.<br />\n
LOCATION:Located at the Tri-Town Chamber of Commerce Building in the Deutsche Bank Championship Conference Room at 280 School St.\, Mansfield\, MA (the building is located to the right and set behind Kohl's)
UID:e.1730.162
SEQUENCE:3
DTSTAMP:20260421T143913Z
URL:https://www.tri-townchamber.org/events/details/revealing-the-secrets-to-your-business-success-08-14-2013-162
END:VEVENT

END:VCALENDAR
