BEGIN:VCALENDAR
VERSION:2.0
PRODID:-//ChamberMaster//Event Calendar 2.0//EN
METHOD:PUBLISH
X-PUBLISHED-TTL:P3D
REFRESH-INTERVAL:P3D
CALSCALE:GREGORIAN
BEGIN:VEVENT
DTSTART:20140624T210000Z
DTEND:20140624T230000Z
X-MICROSOFT-CDO-ALLDAYEVENT:FALSE
SUMMARY:Renaissance Hotel & Spa at Patriot Place - Business After Hours
DESCRIPTION:You are invited to attend the June Business after Hours at the gorgeous Renaissance Boston Hotel & Spa at Patriot Place. Join us for Cocktails and a Reception on the outside Terrace overlooking Gillette Stadium. Tour the Hotel\, Spa\, and Banquet Facilities for your next event. Drop your business card for a chance to win a One hour massage at Spa Epoche\n\n\n\nThe Chamber's Business After Hour networking events are a great way to meet fellow Chamber members\, to distribute your business cards and/or brochures\, and to make meaningful connections in a comfortable atmosphere. If you have never been to an after hours let us know and we will make sure an Ambassador welcomes you!  Our raffle at the event will give you an opportunity to stay at this beautiful venue!  \n\n\n\nThis event is Free to Tri-Town Chamber Members and $10 Non Members. Please remember to RSVP \n\n \n\nMore about our Host: Located adjacent to Gillette Stadium\, home of the three-time Super Bowl champion New England Patriots\, Renaissance Boston Hotel & Spa at Patriot Place is the only luxury hotel in Foxborough\, centrally located near Boston and Providence. We are your bridge to discover Patriot Place\, featuring entertainment\, shopping and dining. Our Marriott Boston area hotel offers a distinctive personality with dramatic panoramic views of the stadium. Expect unexpected delights with vibrant and warm touches throughout. Spa Epoche is your haven for the spirit\, with 8 private treatment rooms. over 10\,000 square feet of flexible meeting and event space encourages creativity and sparks the imagination. Outstanding catered cuisine with unique local flavors coupled with professional\, anticipatory savvy service make memorable events. When seeking a Boston hotel or day spa in Boston\, you'll find the Renaissance will offer an unforgettable experience while you embrace your journey.
X-ALT-DESC;FMTTYPE=text/html:<p><span style="color:#696969\;">You are invited to attend the June Business after Hours at the gorgeous&nbsp\;<strong>Renaissance Boston Hotel &amp\; Spa at Patriot Place</strong>.&nbsp\;Join us for Cocktails and a Reception on the outside Terrace overlooking Gillette Stadium.&nbsp\;Tour the Hotel\, Spa\, and Banquet Facilities for your next event.&nbsp\;Drop your business card for a chance to win a One hour massage at Spa Epoche<br />\n<br />\nThe Chamber&#39\;s <strong>Business After Hour </strong>networking events are a great way to meet fellow Chamber members\, to distribute your business cards and/or brochures\, and to make meaningful connections in a comfortable atmosphere. If you have never been to an after hours let us know and we will make sure an Ambassador welcomes you! &nbsp\;Our raffle at the event will give you an opportunity to stay at this beautiful venue! &nbsp\;<br />\n<br />\nThis event is Free to Tri-Town Chamber Members and $10 Non Members. Please remember to RSVP&nbsp\;</span><br />\n&nbsp\;</p>\n\n<p><em><span style="color:#696969\;"><span style="font-size:12px\;"><span style="font-family:arial\;"><strong>More about our Host: </strong>Located adjacent to Gillette Stadium\, home of the three-time Super Bowl champion New England Patriots\, Renaissance Boston Hotel &amp\; Spa at Patriot Place is the only luxury hotel in Foxborough\, centrally located near Boston and Providence. We are your bridge to discover Patriot Place\, featuring entertainment\, shopping and dining. Our Marriott Boston area hotel offers a distinctive personality with dramatic panoramic views of the stadium. Expect unexpected delights with vibrant and warm touches throughout. Spa Epoche is your haven for the spirit\, with 8 private treatment rooms. over 10\,000 square feet of flexible meeting and event space encourages creativity and sparks the imagination. Outstanding catered cuisine with unique local flavors coupled with professional\, anticipatory savvy service make memorable events. When seeking a Boston hotel or day spa in Boston\, you&#39\;ll find the Renaissance will offer an unforgettable experience while you embrace your journey.</span></span></span></em></p>\n
LOCATION:Renaissance Hotel & Spa at Patriot Place\, Foxboro
UID:e.1730.1023
SEQUENCE:3
DTSTAMP:20260420T222432Z
URL:https://www.tri-townchamber.org/events/details/renaissance-hotel-spa-at-patriot-place-business-after-hours-06-24-2014-1023
END:VEVENT

END:VCALENDAR
