BEGIN:VCALENDAR
VERSION:2.0
PRODID:-//ChamberMaster//Event Calendar 2.0//EN
METHOD:PUBLISH
X-PUBLISHED-TTL:P3D
REFRESH-INTERVAL:P3D
CALSCALE:GREGORIAN
BEGIN:VEVENT
DTSTART:20140613T220000Z
DTEND:20140614T140000Z
X-MICROSOFT-CDO-ALLDAYEVENT:FALSE
SUMMARY:Relay For Life Mansfield
DESCRIPTION:Relay For Life - Mansfield High School\n\nGet Involved\n\nStart a team\n\nJoin a Team\n\nVolunteer\n\nDonate
X-ALT-DESC;FMTTYPE=text/html:Relay For Life - Mansfield High School<br />\nGet Involved<br />\nStart a team<br />\nJoin a Team<br />\nVolunteer<br />\nDonate<br />\n&nbsp\;
LOCATION:Mansfield High School
UID:e.1730.993
SEQUENCE:3
DTSTAMP:20260420T201735Z
URL:https://www.tri-townchamber.org/events/details/relay-for-life-mansfield-06-13-2014-993
END:VEVENT

END:VCALENDAR
