BEGIN:VCALENDAR
VERSION:2.0
PRODID:-//ChamberMaster//Event Calendar 2.0//EN
METHOD:PUBLISH
X-PUBLISHED-TTL:P3D
REFRESH-INTERVAL:P3D
CALSCALE:GREGORIAN
BEGIN:VEVENT
DTSTART:20140809T120000Z
DTEND:20140809T180000Z
X-MICROSOFT-CDO-ALLDAYEVENT:FALSE
SUMMARY:REGENCY FIRE SHOWROOM GRANDOPENING
DESCRIPTION:COME IN ON AUGUST 9TH FROM 8 AM - 2 PM AND  CHECK OUT OUR NEW REGENCY STOVE SHOWROOM..\n\n\n\nWE LOOK FORWARD TO SEEING YOU.
X-ALT-DESC;FMTTYPE=text/html:COME IN ON AUGUST 9TH FROM 8 AM - 2 PM AND &nbsp\;CHECK OUT OUR NEW REGENCY STOVE SHOWROOM..<br />\n<br />\nWE LOOK FORWARD TO SEEING YOU.<br />\n<br />\n&nbsp\;
LOCATION:OLD STATION OUTDOOR & LANDSCAPE SUPPLY 142 EAST MAIN STREET NORTON\, MA 02766
UID:e.1730.1044
SEQUENCE:3
DTSTAMP:20260420T164833Z
URL:https://www.tri-townchamber.org/events/details/regency-fire-showroom-grandopening-08-09-2014-1044
END:VEVENT

END:VCALENDAR
