BEGIN:VCALENDAR
VERSION:2.0
PRODID:-//ChamberMaster//Event Calendar 2.0//EN
METHOD:PUBLISH
X-PUBLISHED-TTL:P3D
REFRESH-INTERVAL:P3D
CALSCALE:GREGORIAN
BEGIN:VEVENT
DTSTART:20151209T170000Z
DTEND:20151209T183000Z
X-MICROSOFT-CDO-ALLDAYEVENT:FALSE
SUMMARY:realBUSINESS Seminar
DESCRIPTION:The real issues faced by real business owners\n\nJoin us for a realBUSINESS Seminar\n\nrealBUSINESS is a video-based seminar featuring stories shared by real business owners. These vignettes explore critical business planning issues\, such as passing ownership on from one generation to the next\, preparing for the unexpected\, such as death of an owner\, retaining key employees\, and proper estate and retirement planning. If you are like most business owners\, you spend the majority of your time working in your business instead of on your business. That means important planning issues can go unaddressed. realBUSINESS tackles these issues head on. No actors\, no scripts - only real stories about real issues told by real business owners.\n\nPresented By: Barrows Insurance Agency & Legacy Financial Group December 9th\n\n \n\nDecember 9th from Noon-1:30pm Hannon Electric 117 Eastman Street 2nd floor conf. room South Easton\, Ma 02375\n\nBring a guest\, lunch is on us!\n\nRSVP by December 7th at 508-958-3590\n\nPresentation by: Joseph P McParland MassMutual Southern New England jmcparland@financialguide.com Can't make it? Call (508) 958-3590 today and get your comprehensive financial review for both business owners and families
X-ALT-DESC;FMTTYPE=text/html:<strong><span style="line-height: 23.1111px\;">The real issues faced by real business owners</span></strong><br style="line-height: 23.1111px\;" />\n<em><span style="line-height: 23.1111px\;">Join us for a&nbsp\;</span>realBUSINESS<span style="line-height: 23.1111px\;">&nbsp\;Seminar</span></em><br style="line-height: 23.1111px\;" />\nrealBUSINESS<span style="line-height: 23.1111px\;">&nbsp\;is a video-based seminar featuring stories shared by real business owners. These vignettes explore critical business planning issues\, such as passing ownership on from one generation to the next\, preparing for the unexpected\, such as death of an owner\, retaining key employees\, and proper estate and retirement planning. If you are like most business owners\, you spend the majority of your time working in your business instead of on your business. That means important planning issues can go&nbsp\;</span>unaddressed<span style="line-height: 23.1111px\;">.&nbsp\;</span>realBUSINESS<span style="line-height: 23.1111px\;">&nbsp\;tackles these issues head on. No actors\, no scripts - only real stories about real issues told by real business owners.</span><br style="line-height: 23.1111px\;" />\n<span style="line-height: 23.1111px\;">Presented By: Barrows Insurance Agency &amp\; Legacy Financial Group December 9th</span><br style="line-height: 23.1111px\;" />\n<span style="line-height: 23.1111px\;">&nbsp\;</span><br style="line-height: 23.1111px\;" />\n<span style="line-height: 23.1111px\;">December 9th from Noon-1:</span>30pm<span style="line-height: 23.1111px\;">&nbsp\;Hannon Electric 117 Eastman Street 2nd floor&nbsp\;</span>conf<span style="line-height: 23.1111px\;">. room South Easton\, Ma 02375</span><br style="line-height: 23.1111px\;" />\n<span style="line-height: 23.1111px\;">Bring a guest\, lunch is on us!</span><br style="line-height: 23.1111px\;" />\n<span style="line-height: 23.1111px\;">RSVP by December 7th at 508-958-3590</span><br style="line-height: 23.1111px\;" />\n<span style="line-height: 23.1111px\;">Presentation by: Joseph P&nbsp\;</span>McParland<span style="line-height: 23.1111px\;">&nbsp\;</span>MassMutual<span style="line-height: 23.1111px\;">&nbsp\;Southern New England&nbsp\;</span><a href="mailto:jmcparland@financialguide.com" style="line-height: 23.1111px\;">jmcparland@financialguide.com</a><span style="line-height: 23.1111px\;">&nbsp\;Can&#39\;t make it? Call (508) 958-3590 today and get your comprehensive financial review for both business owners and families</span><br style="line-height: 23.1111px\;" />\n<span style="line-height: 23.1111px\;">&nbsp\;</span>
LOCATION:Hannon Electric 117 Eastman Street 2nd floor conf. room South Easton\, Ma 02375
UID:e.1730.2033
SEQUENCE:3
DTSTAMP:20260419T141809Z
URL:https://www.tri-townchamber.org/events/details/realbusiness-seminar-12-09-2015-2033
END:VEVENT

END:VCALENDAR
