BEGIN:VCALENDAR
VERSION:2.0
PRODID:-//ChamberMaster//Event Calendar 2.0//EN
METHOD:PUBLISH
X-PUBLISHED-TTL:P3D
REFRESH-INTERVAL:P3D
CALSCALE:GREGORIAN
BEGIN:VEVENT
DTSTART:20260326T220000Z
DTEND:20260327T010000Z
X-MICROSOFT-CDO-ALLDAYEVENT:FALSE
SUMMARY:Rally for SOWMA: Pickleball Social
DESCRIPTION:Join us for a our first ever Pickleball Social! Rally for SOWMA and our students.\n\nWhether you are a beginner\, just want to try or an expert\, we welcome you to this event to support our students. \n\nOr just join us and watch the fun.\n\nComplimentary food and beverages will be provided.
X-ALT-DESC;FMTTYPE=text/html:Join us for a our first ever Pickleball Social! Rally for SOWMA and our students.<br />\nWhether you are a beginner\, just want to try or an expert\, we welcome you to this event to support our students.&nbsp\;<br />\nOr just join us and watch the fun.<br />\nComplimentary food and beverages will be provided.
LOCATION:Boston Pickleball Club 77 Accord Park Drive Norwell\, MA
UID:e.1730.8487
SEQUENCE:3
DTSTAMP:20260419T215336Z
URL:https://www.tri-townchamber.org/events/details/rally-for-sowma-pickleball-social-8487
END:VEVENT

END:VCALENDAR
