BEGIN:VCALENDAR
VERSION:2.0
PRODID:-//ChamberMaster//Event Calendar 2.0//EN
METHOD:PUBLISH
X-PUBLISHED-TTL:P3D
REFRESH-INTERVAL:P3D
CALSCALE:GREGORIAN
BEGIN:VEVENT
DTSTART:20141216T150000Z
DTEND:20141216T170000Z
X-MICROSOFT-CDO-ALLDAYEVENT:FALSE
SUMMARY:Prepare for Year End
DESCRIPTION:Prepare for Year End\n\nChamber Member Marietta Courtney is offering one-on-one business accounting.\n\n \n\n"Many business owners try to do everything themselves\, including the accounting\, because either they need to stretch every dollar or they don't know what they don't know. "\n\n \n\nBusiness Owners - Schedule a 30 minute one-on-one Q&A sessions where you will receive Free professional advice on your business accounting. You can bring your Excel spreadsheets\, Quickbooks or your profit and loss statements for to this one on one and Marietta will be able to give you advice. \n\n \n\nAvailable Sessions are Tuesday\, December 16 between 10:00am -12:00pm\n\nAppointment will be at the Chamber offices in Mansfield at 280 School Street\, Building L100.\n\nTo schedule an appointment please contact Marietta at marietta@courtneycpa.com \n\n \n\nMarietta Z. Courtney\, CPA\, MST\n\nTax and Accounting Services\n\nTrusted Advisor to Business and Individual Clients for Over 20 Years.\n\n(617) 416-2096\n\nhttp://courtneycpa.com
X-ALT-DESC;FMTTYPE=text/html:<strong><span style="font-family:arial\,sans-serif\;"><span style="font-size:12.0pt\;">Prepare for Year End</span></span></strong><br />\n<span style="font-family:arial\,sans-serif\;"><span style="font-size:12.0pt\;">Chamber Member Marietta Courtney is offering one-on-one business accounting.</span></span><br />\n&nbsp\;<br />\n<span style="font-family:arial\,sans-serif\;"><span style="font-size:12.0pt\;">&ldquo\;Many business owners try to do everything themselves\, including the accounting\, because either they need to stretch every dollar or they don&rsquo\;t know what they don&rsquo\;t know. &rdquo\;</span></span><br />\n&nbsp\;<br />\n<span style="font-family:arial\,sans-serif\;"><span style="font-size:12.0pt\;">Business Owners - Schedule a 30 minute one-on-one Q&amp\;A sessions where you will receive Free professional advice on your business accounting. You can bring your Excel spreadsheets\, Quickbooks or your profit and loss statements for to this one on one and Marietta will be able to give you advice. </span></span><br />\n&nbsp\;<br />\n<span style="font-family:arial\,sans-serif\;"><span style="font-size:12.0pt\;">Available Sessions are Tuesday\, December 16 between 10:00am -12:00pm</span></span><br />\n<span style="font-family:arial\,sans-serif\;"><span style="font-size:12.0pt\;">Appointment will be at the Chamber offices in Mansfield at 280 School Street\, Building L100.<br />\nTo schedule an appointment please contact Marietta at <a href="mailto:marietta@courtneycpa.com">marietta@courtneycpa.com</a> </span></span><br />\n&nbsp\;<br />\n<strong><span style="font-family:arial\,sans-serif\;"><span style="font-size:12.0pt\;">Marietta Z. Courtney\, CPA\, MST</span></span></strong><br />\n<span style="font-family:arial\,sans-serif\;"><span style="font-size:12.0pt\;">Tax and Accounting Services<br />\nTrusted Advisor to Business and Individual Clients for Over 20 Years.<br />\n(617) 416-2096</span></span><br />\n<span style="font-family:arial\,sans-serif\;"><span style="font-size:12.0pt\;"><a href="http://courtneycpa.com/">http://courtneycpa.com</a></span></span><br />\n<br />\n<br />\n&nbsp\;
LOCATION:Chamber offices in Mansfield at 280 School Street\, Building L100
UID:e.1730.1084
SEQUENCE:3
DTSTAMP:20260420T113402Z
URL:https://www.tri-townchamber.org/events/details/prepare-for-year-end-12-16-2014-1084
END:VEVENT

END:VCALENDAR
