BEGIN:VCALENDAR
VERSION:2.0
PRODID:-//ChamberMaster//Event Calendar 2.0//EN
METHOD:PUBLISH
X-PUBLISHED-TTL:P3D
REFRESH-INTERVAL:P3D
CALSCALE:GREGORIAN
BEGIN:VEVENT
DTSTART:20140522T230000Z
DTEND:20140523T003000Z
X-MICROSOFT-CDO-ALLDAYEVENT:FALSE
SUMMARY:Pregnancy 101: Prenatal care\, trimesters\, and childbirth
DESCRIPTION:Choosing an obstetrics provider is one of the first decisions you'll make as a parent. Join Brigham and Women's obstetrician Sarah Catlin\, MD for a discussion around prenatal care\, trimesters\, and childbirth. We will have time for questions and answers as well as the opportunity to meet some of our obstetrical providers.
X-ALT-DESC;FMTTYPE=text/html:Choosing an obstetrics provider is one of the first decisions you&#39\;ll make as a parent. Join Brigham and Women&#39\;s obstetrician Sarah Catlin\, MD for a discussion around prenatal care\, trimesters\, and childbirth. We will have time for questions and answers as well as the opportunity to meet some of our obstetrical providers.
LOCATION:Brigham and Women's/Mass General Health Care Center 3rd Floor Atrium 20 Patriot Place\, Foxborough
UID:e.1730.1003
SEQUENCE:3
DTSTAMP:20260420T222427Z
URL:https://www.tri-townchamber.org/events/details/pregnancy-101-prenatal-care-trimesters-and-childbirth-05-22-2014-1003
END:VEVENT

END:VCALENDAR
