BEGIN:VCALENDAR
VERSION:2.0
PRODID:-//ChamberMaster//Event Calendar 2.0//EN
METHOD:PUBLISH
X-PUBLISHED-TTL:P3D
REFRESH-INTERVAL:P3D
CALSCALE:GREGORIAN
BEGIN:VEVENT
DTSTART;VALUE=DATE:20131213
DTEND;VALUE=DATE:20131214
TRANSP:TRANSPARENT
X-MICROSOFT-CDO-ALLDAYEVENT:TRUE
SUMMARY:Pre Season Event at Buffalo Wild Wings
DESCRIPTION:Come and join the opening of Buffalo Wild Wings! Take part in either Fridays or Saturdays soft opening.\n\nEach ticket is good for Two Guests\; you will receive 1 appetizer to share\, 1 guest must order wings\, while the other can order any entree they like. Ticket includes non alcoholic beverage.\n\nDesert and Draft Beer is available for $3.00 cash. All cash generated will be donated to the Boys and Girls Club.
X-ALT-DESC;FMTTYPE=text/html:Come and join the opening of Buffalo Wild Wings! Take part in either Fridays or Saturdays soft opening.<br />\nEach ticket is good for Two Guests\; you will receive 1 appetizer to share\, 1 guest must order wings\, while the other can order any entree they like. Ticket includes non alcoholic beverage.<br />\nDesert and Draft Beer is available for $3.00 cash. All cash generated will be donated to the Boys and Girls Club.
LOCATION:321 School Street\, Suite 110 in Mansfield
UID:e.1730.447
SEQUENCE:3
DTSTAMP:20260421T064427Z
URL:https://www.tri-townchamber.org/events/details/pre-season-event-at-buffalo-wild-wings-12-13-2013-447
END:VEVENT

END:VCALENDAR
