BEGIN:VCALENDAR
VERSION:2.0
PRODID:-//ChamberMaster//Event Calendar 2.0//EN
METHOD:PUBLISH
X-PUBLISHED-TTL:P3D
REFRESH-INTERVAL:P3D
CALSCALE:GREGORIAN
BEGIN:VEVENT
DTSTART:20150618T223000Z
DTEND:20150619T000000Z
X-MICROSOFT-CDO-ALLDAYEVENT:FALSE
SUMMARY:Portuguese Wine Seminar
DESCRIPTION:Join us for a wine seminar on Thursday\, June 18th at 6:30pm. Expand your palate and wine knowledge at our free\, informative seminar! Light hors devours will be provided.\n\n\n\nPortugese Wines (and some Spaniards too)\n\nTry some wines from the tip of the Iberian Penninsula\, one of the most unique winemaking regions in the world. Danny O'Neill from Winebow will tell us what 3\,000 hours of sunlight per year can produce in a wine.\n\n\n\nReserve yourself a seat by emailing thomas@winesandmorema.com
X-ALT-DESC;FMTTYPE=text/html:Join us for a wine seminar on<strong> Thursday\, June 18th at 6:30pm</strong>. Expand your palate and wine knowledge at our free\, informative seminar! Light hors devours will be provided.<br />\n<br />\n<span style="font-family:verdana"><span style="font-size:14px"><strong>Portugese Wines</strong></span></span> <span style="font-size:11px">(and some Spaniards too</span>)<br />\nTry some wines from the tip of the Iberian Penninsula\, one of the most unique winemaking&nbsp\;regions&nbsp\;in the world. Danny O&#39\;Neill&nbsp\;from Winebow will tell us what 3\,000 hours of sunlight per year can produce in a wine.<br />\n<br />\nReserve yourself a seat by emailing <a href="mailto:thomas@winesandmorema.com">thomas@winesandmorema.com</a>
LOCATION:Wines And More (Mansfield Crossing) 280 School St. Mansfield\, Ma 02048 508-339-6900
UID:e.1730.1663
SEQUENCE:3
DTSTAMP:20260420T014802Z
URL:https://www.tri-townchamber.org/events/details/portuguese-wine-seminar-06-18-2015-1663
END:VEVENT

END:VCALENDAR
