BEGIN:VCALENDAR
VERSION:2.0
PRODID:-//ChamberMaster//Event Calendar 2.0//EN
METHOD:PUBLISH
X-PUBLISHED-TTL:P3D
REFRESH-INTERVAL:P3D
CALSCALE:GREGORIAN
BEGIN:VEVENT
DTSTART:20150214T140000Z
DTEND:20150214T190000Z
X-MICROSOFT-CDO-ALLDAYEVENT:FALSE
SUMMARY:Polar Plunge for Special Olympics
DESCRIPTION:Join us for the 1st Annual Law Enforcement Torch Run Polar Plunge to benefit Special Olympics
X-ALT-DESC;FMTTYPE=text/html:Join us for the 1st Annual Law Enforcement Torch Run Polar Plunge to benefit Special Olympics
LOCATION:Lake Massapoag Sharon\, MA Recreation Center Beach
UID:e.1730.1270
SEQUENCE:3
DTSTAMP:20260420T064324Z
URL:https://www.tri-townchamber.org/events/details/polar-plunge-for-special-olympics-02-14-2015-1270
END:VEVENT

END:VCALENDAR
