BEGIN:VCALENDAR
VERSION:2.0
PRODID:-//ChamberMaster//Event Calendar 2.0//EN
METHOD:PUBLISH
X-PUBLISHED-TTL:P3D
REFRESH-INTERVAL:P3D
CALSCALE:GREGORIAN
BEGIN:VEVENT
DTSTART;VALUE=DATE:20130804
DTEND;VALUE=DATE:20130805
TRANSP:TRANSPARENT
X-MICROSOFT-CDO-ALLDAYEVENT:TRUE
SUMMARY:PMC Kids Ride
DESCRIPTION:You're invited to participate in the Patriot Place PMC Kids Ride! This is Covidien's 5th year participating in this inspirational event. Covidien is pleased to once again team up with PMC staff\, Patriot Place\, local communities and businesses to create an exciting and unique ride to help the PMC mission of curing cancer.\n\n\n\nThe ride benefits cancer research and the treatment of children with cancer at the Dana-Farber Cancer Institute. If you have children\, family or friends\, between the ages of 3 and 14\, we invite them to ride their bikes on one of the courses: Tykes and Trikes obstacle course\, Stadium Trek 1-mile route or Challenger 3-mile route. The ride will begin promptly at 9:00 a.m. and riders will complete as many circuits as they can until 10:00 a.m. when the ride concludes. Following the ride\, there will be music\, games\, snacks and more available to all riders and participants. Also\, adult riders will be on site as Patriot Place is a water stop along the PMC route. Participants of the kids ride will be a part of the exciting larger PMC ride. We hope that you can join! PMC Kids Ride
X-ALT-DESC;FMTTYPE=text/html:You&rsquo\;re invited to participate in the Patriot Place PMC Kids Ride!&nbsp\;This is&nbsp\;Covidien&rsquo\;s 5th year participating in this inspirational event. Covidien is&nbsp\;pleased to once again team up with PMC staff\, Patriot Place\, local&nbsp\;communities and businesses to create an exciting and unique ride to help&nbsp\;the PMC mission of curing cancer.<br />\n<br />\nThe ride benefits cancer research and&nbsp\;the treatment of children with cancer at the&nbsp\;Dana-Farber&nbsp\;Cancer Institute.&nbsp\;If you have children\, family or friends\, between the ages of 3 and 14\, we&nbsp\;invite them to ride their bikes on one of the courses: Tykes and&nbsp\;Trikes obstacle course\, Stadium Trek 1-mile route or Challenger 3-mile route.&nbsp\;The ride will begin promptly at 9:00 a.m. and riders will complete as many&nbsp\;circuits as they can until 10:00 a.m. when the ride concludes.&nbsp\;Following the ride\, there will be music\, games\, snacks and more available&nbsp\;to all riders and participants. Also\, adult riders will be on site as Patriot&nbsp\;Place is a water stop along the PMC route. Participants of the kids ride will be a part of the exciting larger PMC ride. We hope that you can join!&nbsp\;PMC Kids Ride<br />\n<br />\n
LOCATION:This fun community event will be held at Patriot Place\, Gillette Stadium.
UID:e.1730.160
SEQUENCE:3
DTSTAMP:20260421T131730Z
URL:https://www.tri-townchamber.org/events/details/pmc-kids-ride-08-04-2013-160
END:VEVENT

END:VCALENDAR
