BEGIN:VCALENDAR
VERSION:2.0
PRODID:-//ChamberMaster//Event Calendar 2.0//EN
METHOD:PUBLISH
X-PUBLISHED-TTL:P3D
REFRESH-INTERVAL:P3D
CALSCALE:GREGORIAN
BEGIN:VEVENT
DTSTART;VALUE=DATE:20140421
DTEND;VALUE=DATE:20140422
TRANSP:TRANSPARENT
X-MICROSOFT-CDO-ALLDAYEVENT:TRUE
SUMMARY:PATRIOTS DAY HOLIDAY
DESCRIPTION:Chamber is closed for the Patriots Day Holiday
X-ALT-DESC;FMTTYPE=text/html:Chamber is closed for the Patriots Day Holiday
LOCATION:
UID:e.1730.825
SEQUENCE:3
DTSTAMP:20260421T000316Z
URL:https://www.tri-townchamber.org/events/details/patriots-day-holiday-04-21-2014-825
END:VEVENT

END:VCALENDAR
