BEGIN:VCALENDAR
VERSION:2.0
PRODID:-//ChamberMaster//Event Calendar 2.0//EN
METHOD:PUBLISH
X-PUBLISHED-TTL:P3D
REFRESH-INTERVAL:P3D
CALSCALE:GREGORIAN
BEGIN:VEVENT
DTSTART:20140611T114500Z
DTEND:20140611T130000Z
X-MICROSOFT-CDO-ALLDAYEVENT:FALSE
SUMMARY:Partners HealthCare at Home - Business Over Coffee
DESCRIPTION:Business Over Coffee for you to come learn about what Partners HealthCare at Home has to offer.\n\n\n\n"At Partners HealthCare at Home\, we help patients and families find the physical\, emotional and spiritual strength they need to improve and carry on. Whenever you need us and whatever home health services you need - we are here for you.\n\n \n\nBecause we are part of the Partners HealthCare system\, the knowledge and expertise of the entire system\, including the rehabilitation services of the Spaulding Rehabilitation Network\, are available to you and your caregivers. The continuum of superb health care ensures that you will always find the exact care you need throughout your journey   and the strength you need to live life to the fullest.\n\nTo talk with one of our knowledgeable representatives about your home care needs\, call us at (781) 290-4200.   World class care in your own home with Partners HealthCare."
X-ALT-DESC;FMTTYPE=text/html:<span style="font-size:14px\;"><span style="font-family:arial\,sans-serif\;">Business Over Coffee for you to come learn about what&nbsp\;</span><span style="font-family: arial\, sans-serif\; line-height: 22.399999618530273px\;">Partners HealthCare at Home has to offer.</span><br />\n<br />\n<em>&quot\;At Partners HealthCare at Home\, we help patients and families find the physical\, emotional and spiritual strength they need to improve and carry on. Whenever you need us and whatever home health services you need - we are here for you.<br />\n&nbsp\;<br />\nBecause we are part of the Partners HealthCare system\, the knowledge and expertise of the entire system\, including the rehabilitation services of the Spaulding Rehabilitation Network\, are available to you and your caregivers. The continuum of superb health care ensures that you will always find the exact care you need throughout your journey &ndash\; and the strength you need to live life to the fullest.<br />\nTo talk with one of our knowledgeable representatives about your home care needs\, call us at (781) 290-4200. &nbsp\;&nbsp\;World class care in your own home with Partners HealthCare.&quot\;</em></span>
LOCATION:Tri-Town Chamber of Commerce\, in the Barrows Insurance Agency Conference Room
UID:e.1730.1008
SEQUENCE:3
DTSTAMP:20260420T222430Z
URL:https://www.tri-townchamber.org/events/details/partners-healthcare-at-home-business-over-coffee-06-11-2014-1008
END:VEVENT

END:VCALENDAR
