BEGIN:VCALENDAR
VERSION:2.0
PRODID:-//ChamberMaster//Event Calendar 2.0//EN
METHOD:PUBLISH
X-PUBLISHED-TTL:P3D
REFRESH-INTERVAL:P3D
CALSCALE:GREGORIAN
BEGIN:VEVENT
DTSTART:20150501T224500Z
DTEND:20150502T010000Z
X-MICROSOFT-CDO-ALLDAYEVENT:FALSE
SUMMARY:Paint Night to benfit the NAC
DESCRIPTION:Looking for a fun night out? Come create an original piece of art while supporting the Norfolk Advocates for Children! Not artistic? No experience necessary! ? Guests over 21 are welcome to bring their own wine or beer ? Pre-packaged snacks\, soda and water will be available for purchase ? You receive all the supplies to create your masterpiece\; paints\, apron\, brushes and a 16x20 canvas
X-ALT-DESC;FMTTYPE=text/html:Looking for a fun night out? Come create an original piece of art while supporting the Norfolk Advocates for Children! Not artistic? No experience necessary! ? Guests over 21 are welcome to bring their own wine or beer ? Pre-packaged snacks\, soda and water will be available for purchase ? You receive all the supplies to create your masterpiece\; paints\, apron\, brushes and a 16x20 canvas
LOCATION:The Parched Painter 85 West St\, Walpole\, MA 02081
UID:e.1730.1647
SEQUENCE:3
DTSTAMP:20260420T015620Z
URL:https://www.tri-townchamber.org/events/details/paint-night-to-benfit-the-nac-05-01-2015-1647
END:VEVENT

END:VCALENDAR
