BEGIN:VCALENDAR
VERSION:2.0
PRODID:-//ChamberMaster//Event Calendar 2.0//EN
METHOD:PUBLISH
X-PUBLISHED-TTL:P3D
REFRESH-INTERVAL:P3D
CALSCALE:GREGORIAN
BEGIN:VEVENT
DTSTART:20260327T160000Z
DTEND:20260327T170000Z
X-MICROSOFT-CDO-ALLDAYEVENT:FALSE
SUMMARY:One Year Anniversary Grand Chateau
DESCRIPTION:Please join us as we celebrate the 1-year anniversary of The Grand Chateau Owl Wedding & Event Venue with a ribbon cutting ceremony on Friday\, March 27th at 12:00 noon.\n\n \n\nNestled in a picturesque setting\, The Grand Chateau Owl offers an elegant and enchanting space designed for weddings\, receptions\, and special events. Featuring refined architecture\, beautifully curated indoor and outdoor areas\, and a timeless ambiance\, the venue blends classic charm with modern amenities to create unforgettable experiences.\n\n \n\nCome meet the owner\, tour this stunning venue\, and help us commemorate one year of beautiful celebrations at The Grand Chateau Owl. All are welcome to attend and celebrate this milestone with us.\n\n\n\nThis is a joint event with the Taunton Chamber of Commerce
X-ALT-DESC;FMTTYPE=text/html:<div data-olk-copy-source="MailCompose" style="font-family: Arial\, Helvetica\, sans-serif\; font-size: 12pt\; color: rgb(0\, 0\, 0)\;">Please join us as we celebrate the 1-year anniversary of The Grand Chateau Owl Wedding &amp\; Event Venue with a ribbon cutting ceremony on Friday\, March 27th at 12:00 noon.</div>\n\n<div style="font-family: Arial\, Helvetica\, sans-serif\; font-size: 12pt\; color: rgb(0\, 0\, 0)\;">&nbsp\;</div>\n\n<div style="font-family: Arial\, Helvetica\, sans-serif\; font-size: 12pt\; color: rgb(0\, 0\, 0)\;">Nestled in a picturesque setting\, The Grand Chateau Owl offers an elegant and enchanting space designed for weddings\, receptions\, and special events. Featuring refined architecture\, beautifully curated indoor and outdoor areas\, and a timeless ambiance\, the venue blends classic charm with modern amenities to create unforgettable experiences.</div>\n\n<div style="font-family: Arial\, Helvetica\, sans-serif\; font-size: 12pt\; color: rgb(0\, 0\, 0)\;">&nbsp\;</div>\n\n<div style="font-family: Arial\, Helvetica\, sans-serif\; font-size: 12pt\; color: rgb(0\, 0\, 0)\;">Come meet the owner\, tour this stunning venue\, and help us commemorate one year of beautiful celebrations at The Grand Chateau Owl. All are welcome to attend and celebrate this milestone with us.<br />\n<br />\nThis is a joint event with the Taunton Chamber of Commerce</div>\n
LOCATION:4 Mansfield Ave.\, Norton
UID:e.1730.8483
SEQUENCE:3
DTSTAMP:20260419T134805Z
URL:https://www.tri-townchamber.org/events/details/one-year-anniversary-grand-chateau-8483
END:VEVENT

END:VCALENDAR
