BEGIN:VCALENDAR
VERSION:2.0
PRODID:-//ChamberMaster//Event Calendar 2.0//EN
METHOD:PUBLISH
X-PUBLISHED-TTL:P3D
REFRESH-INTERVAL:P3D
CALSCALE:GREGORIAN
BEGIN:VEVENT
DTSTART:20140624T140000Z
DTEND:20140624T190000Z
X-MICROSOFT-CDO-ALLDAYEVENT:FALSE
SUMMARY:Old Station Outdoor & Landscape Supply is Calling All Contractors!!!!
DESCRIPTION:Unilock wil be here on Tuesday June 24th from 10am - 3pm.  Lunch will be provided..  Come in and see how Unilock and Old Station can help grow your business.
X-ALT-DESC;FMTTYPE=text/html:&nbsp\;Unilock wil be here on Tuesday June 24th from 10am - 3pm. &nbsp\;Lunch will be provided.. &nbsp\;Come in and see how Unilock and Old Station can help grow your business.
LOCATION:142 East Main Street Norton\, MA 02766
UID:e.1730.1024
SEQUENCE:3
DTSTAMP:20260420T201957Z
URL:https://www.tri-townchamber.org/events/details/old-station-outdoor-landscape-supply-is-calling-all-contractors-06-24-2014-1024
END:VEVENT

END:VCALENDAR
