BEGIN:VCALENDAR
VERSION:2.0
PRODID:-//ChamberMaster//Event Calendar 2.0//EN
METHOD:PUBLISH
X-PUBLISHED-TTL:P3D
REFRESH-INTERVAL:P3D
CALSCALE:GREGORIAN
BEGIN:VEVENT
DTSTART:20130622T210000Z
DTEND:20130623T010000Z
X-MICROSOFT-CDO-ALLDAYEVENT:FALSE
SUMMARY:Norton Founder's Day & Annual Picnic & Fireworks
DESCRIPTION:Celebrate Norton with Friends and Family. Visit the dedicated website for all up to date information
X-ALT-DESC;FMTTYPE=text/html:Celebrate Norton with Friends and Family. Visit the dedicated website for all up to date information
LOCATION:
UID:e.1730.11
SEQUENCE:3
DTSTAMP:20260421T161418Z
URL:https://www.tri-townchamber.org/events/details/norton-founder-s-day-annual-picnic-fireworks-06-22-2013-11
END:VEVENT

END:VCALENDAR
