BEGIN:VCALENDAR
VERSION:2.0
PRODID:-//ChamberMaster//Event Calendar 2.0//EN
METHOD:PUBLISH
X-PUBLISHED-TTL:P3D
REFRESH-INTERVAL:P3D
CALSCALE:GREGORIAN
BEGIN:VEVENT
DTSTART:20150510T143000Z
DTEND:20150510T180000Z
X-MICROSOFT-CDO-ALLDAYEVENT:FALSE
SUMMARY:Norton Country Club Mother's Day Brunch
DESCRIPTION:Norton Country Club will be hosting its annual Mother's Day Brunch on Sunday\, May 10th from 10:30 am - 2:00 pm.  Come join us with your family and friends for this great event!  You must make a reservation to attend.  We accept parties of all sizes.  Please call the business office @ (508) 285-2400 ext. 100 to make your reservation.  The prime times book quickly\, so be sure to reserve yours today!
X-ALT-DESC;FMTTYPE=text/html:Norton Country Club will be hosting its annual Mother&#39\;s Day Brunch on Sunday\, May 10th from 10:30 am - 2:00 pm.&nbsp\; Come join us with your family and friends for this great event!&nbsp\; You must make a reservation to attend.&nbsp\; We accept parties of all sizes.&nbsp\; Please call the business office @ (508) 285-2400 ext. 100 to make your reservation.&nbsp\; The prime times book quickly\, so be sure to reserve yours today!
LOCATION:Norton Country Club 188 Oak Street Norton\, MA 02766
UID:e.1730.1642
SEQUENCE:3
DTSTAMP:20260420T015838Z
URL:https://www.tri-townchamber.org/events/details/norton-country-club-mother-s-day-brunch-05-10-2015-1642
END:VEVENT

END:VCALENDAR
