BEGIN:VCALENDAR
VERSION:2.0
PRODID:-//ChamberMaster//Event Calendar 2.0//EN
METHOD:PUBLISH
X-PUBLISHED-TTL:P3D
REFRESH-INTERVAL:P3D
CALSCALE:GREGORIAN
BEGIN:VEVENT
DTSTART:20150418T180000Z
DTEND:20150418T210000Z
X-MICROSOFT-CDO-ALLDAYEVENT:FALSE
SUMMARY:Norton Country Club Golf Open House
DESCRIPTION:Norton Country Club will be hosting a Golf Open House on Saturday\, April 18th from 2:00 pm - 5:00 pm.  This is a great opportunity to speak with Club staff about membership for the upcoming season.  There will be complimentary appetizers and a drink ticket as well as many prize giveaways.  The Grand Prize will be a 2015 Membership!  WEEI's street team will be here giving away some cool stuff and having a mini putting contest.  To pre-register for this great event please call (508) 285-2400 ext 100 or email scotth@nortoncountryclub.com.
X-ALT-DESC;FMTTYPE=text/html:Norton Country Club will be hosting a Golf Open House on Saturday\, April 18th from 2:00 pm - 5:00 pm.&nbsp\; This is a great opportunity to speak with Club staff about membership for the upcoming season.&nbsp\; There will be complimentary appetizers and a drink ticket as well as many prize giveaways.&nbsp\;&nbsp\;<strong>The Grand Prize will be&nbsp\;a 2015 Membership!&nbsp\; WEEI&#39\;s </strong>street team will be here giving away some cool stuff and having a mini putting contest.&nbsp\; To pre-register for this great event please call (508) 285-2400 ext 100 or email scotth@nortoncountryclub.com.<br />\n<br />\n&nbsp\;
LOCATION:Norton Country Club 188 Oak Street Norton\, MA 02766
UID:e.1730.1641
SEQUENCE:3
DTSTAMP:20260420T050124Z
URL:https://www.tri-townchamber.org/events/details/norton-country-club-golf-open-house-04-18-2015-1641
END:VEVENT

END:VCALENDAR
