BEGIN:VCALENDAR
VERSION:2.0
PRODID:-//ChamberMaster//Event Calendar 2.0//EN
METHOD:PUBLISH
X-PUBLISHED-TTL:P3D
REFRESH-INTERVAL:P3D
CALSCALE:GREGORIAN
BEGIN:VEVENT
DTSTART:20150301T170000Z
DTEND:20150301T200000Z
X-MICROSOFT-CDO-ALLDAYEVENT:FALSE
SUMMARY:NORTON COUNTRY CLUB ANNUAL BRIDAL SHOW
DESCRIPTION:Hello Everyone!\n\n\n\nThe annual Norton Country Club Bridal Show will be held on Sunday\, March 1\, 2015 from 12:00 pm - 3:00 pm in our Ball Room.  This is a great opportunity to view the Club\, speak with our staff and meet with highly recommended professional vendors!  Admission is FREE and there will be complimentary hors d'oeuvres and mimosa fountain.  A flyer for the event can be found at http://www.nortoncountryclub.com.  You may also pre-register by clicking on the link or contacting the Club directly at (508) 285-2400 ext. 100.  All guests that pre-register will qualify for a special raffle for $500.00 off of a future event at the Club!  Must be present to win!\n\n\n\nWe hope to see you all there!\n\nNCC Staff
X-ALT-DESC;FMTTYPE=text/html:<p>Hello Everyone!<br />\n<br />\nThe annual Norton Country Club <strong>Bridal Show </strong>will be held on <strong>Sunday\, March 1\, 2015 from 12:00 pm - 3:00 pm</strong> in our Ball Room.&nbsp\; This is a great opportunity to view the Club\, speak with our staff and meet with highly recommended professional vendors!&nbsp\; Admission is <strong>FREE </strong>and there will be <strong>complimentary hors d&#39\;oeuvres and mimosa fountain.&nbsp\;</strong> A<strong> </strong>flyer for the event can be found at&nbsp\;<a href="http://www.nortoncountryclub.com">http://www.nortoncountryclub.com</a>.&nbsp\; You may also pre-register by clicking on the link or contacting the Club directly at (508) 285-2400 ext. 100.&nbsp\; <strong>All guests that pre-register will qualify for a special raffle for $500.00 off of a future&nbsp\;event at the Club!&nbsp\; Must be present to win!<br />\n<br />\nWe hope to see you all there!<br />\nNCC Staff</strong><br />\n&nbsp\;</p>\n
LOCATION:Norton Country Club 188 Oak Street Norton\, MA 02766
UID:e.1730.1272
SEQUENCE:3
DTSTAMP:20260420T050257Z
URL:https://www.tri-townchamber.org/events/details/norton-country-club-annual-bridal-show-03-01-2015-1272
END:VEVENT

END:VCALENDAR
