BEGIN:VCALENDAR
VERSION:2.0
PRODID:-//ChamberMaster//Event Calendar 2.0//EN
METHOD:PUBLISH
X-PUBLISHED-TTL:P3D
REFRESH-INTERVAL:P3D
CALSCALE:GREGORIAN
BEGIN:VEVENT
DTSTART:20160228T170000Z
DTEND:20160228T200000Z
X-MICROSOFT-CDO-ALLDAYEVENT:FALSE
SUMMARY:Norton Country Club Annual Bridal Show
DESCRIPTION:Make plans to attend the Annual Norton Country Club Bridal Show on Sunday\, February 28th from 12:00 pm - 3:00 pm in our Ball Room. Admission is FREE. This is a great opportunity to speak with the Norton Country Club staff as well as it's highly recommended\, talented vendors. There will be complimentary food & mimosas. Pre-registration by Friday\, February 25\, 2016 qualifies for the grand prize of a $500.00 gift certificate to Norton Country Club to be drawn at 2:45 pm. Must be present to win!
X-ALT-DESC;FMTTYPE=text/html:Make plans to attend the Annual Norton Country Club Bridal Show on Sunday\, February 28th from 12:00 pm - 3:00 pm in our Ball Room. Admission is FREE. This is a great opportunity to speak with the Norton Country Club staff as well as it&#39\;s highly recommended\, talented vendors. There will be complimentary food &amp\; mimosas. Pre-registration by Friday\, February 25\, 2016 qualifies for the grand prize of a $500.00 gift certificate to Norton Country Club to be drawn at 2:45 pm. Must be present to win!
LOCATION:Norton Country Club 188 Oak Street Norton\, MA 02766
UID:e.1730.2114
SEQUENCE:3
DTSTAMP:20260419T160907Z
URL:https://www.tri-townchamber.org/events/details/norton-country-club-annual-bridal-show-02-28-2016-2114
END:VEVENT

END:VCALENDAR
