BEGIN:VCALENDAR
VERSION:2.0
PRODID:-//ChamberMaster//Event Calendar 2.0//EN
METHOD:PUBLISH
X-PUBLISHED-TTL:P3D
REFRESH-INTERVAL:P3D
CALSCALE:GREGORIAN
BEGIN:VEVENT
DTSTART:20140429T200000Z
DTEND:20140429T220000Z
X-MICROSOFT-CDO-ALLDAYEVENT:FALSE
SUMMARY:Norfolk Advocates for Children Open House
DESCRIPTION:OPEN HOUSE Please join Norfolk Advocates for Children and Michael W. Morrissey\, Norfolk District Attorney for an OPEN HOUSE as we introduce the "One with Courage" Public Awareness Campaign.
X-ALT-DESC;FMTTYPE=text/html:OPEN HOUSE Please join Norfolk Advocates for Children and Michael W. Morrissey\, Norfolk District Attorney for an OPEN HOUSE as we introduce the &quot\;One with Courage&quot\; Public Awareness Campaign.
LOCATION:Norfolk Advocates for Children\, 12 Payson Road\, Foxborough\, MA
UID:e.1730.997
SEQUENCE:3
DTSTAMP:20260421T015219Z
URL:https://www.tri-townchamber.org/events/details/norfolk-advocates-for-children-open-house-04-29-2014-997
END:VEVENT

END:VCALENDAR
